BEGIN:VCALENDAR
VERSION:2.0
PRODID:-// - ECPv6.15.17.1//NONSGML v1.0//EN
CALSCALE:GREGORIAN
METHOD:PUBLISH
X-ORIGINAL-URL:https://ncnca.org
X-WR-CALDESC:Events for 
REFRESH-INTERVAL;VALUE=DURATION:PT1H
X-Robots-Tag:noindex
X-PUBLISHED-TTL:PT1H
BEGIN:VTIMEZONE
TZID:America/Los_Angeles
BEGIN:DAYLIGHT
TZOFFSETFROM:-0800
TZOFFSETTO:-0700
TZNAME:PDT
DTSTART:20240310T100000
END:DAYLIGHT
BEGIN:STANDARD
TZOFFSETFROM:-0700
TZOFFSETTO:-0800
TZNAME:PST
DTSTART:20241103T090000
END:STANDARD
BEGIN:DAYLIGHT
TZOFFSETFROM:-0800
TZOFFSETTO:-0700
TZNAME:PDT
DTSTART:20250309T100000
END:DAYLIGHT
BEGIN:STANDARD
TZOFFSETFROM:-0700
TZOFFSETTO:-0800
TZNAME:PST
DTSTART:20251102T090000
END:STANDARD
BEGIN:DAYLIGHT
TZOFFSETFROM:-0800
TZOFFSETTO:-0700
TZNAME:PDT
DTSTART:20260308T100000
END:DAYLIGHT
BEGIN:STANDARD
TZOFFSETFROM:-0700
TZOFFSETTO:-0800
TZNAME:PST
DTSTART:20261101T090000
END:STANDARD
END:VTIMEZONE
BEGIN:VEVENT
DTSTART;VALUE=DATE:20250427
DTEND;VALUE=DATE:20250428
DTSTAMP:20260423T125458
CREATED:20241231T052636Z
LAST-MODIFIED:20250317T015649Z
UID:10002215-1745712000-1745798399@ncnca.org
SUMMARY:CCCX 2025 MTB Race #5 Finals
DESCRIPTION:History\n\nThe first CCCX was held at Ford Ord in 1998.  Since then\, CCCX has produced MTB\, CX\, Road and Enduro races every year (excluding COVID).  CCCX has become a staple of Monterey County cycling. \n3CX MTB Race Series\n\nThe CCCX MTB Race Series is a series of 4 races.  Riders can race each venue as a standalone event or race the entire series. \nSeries scoring will be based on the best 3 race results for each rider in the series.  Points will be based on finish position.  Riders participating in the series cannot change categories after the first race in the series. \nCHANGE: THERE IS NO ONSITE REGISTRATION FOR THE CCCX 2024 MTB RACE SERIES\, SO PLEASE MAKE SURE TO REGISTER ONLINE BEFORE THE DEADLINE.  THIS IS DUE TO RFID TIMING. \nFort Ord Venue – Fort Ord Day Camp\n\nFort Ord is legendary for its ultra-fast trails.  This is where you will lay down some serious speed without running into a lot of technical features.  Average speeds can exceed 18 MPH for top finishers depending on the course.  On that note – Fort Ord features nearly limitless course variation. The CCCX Race Series will take advantage of trails and features that are not often used to give riders a unique experience.  We don’t mind putting the extra work into course design! \nPlease park inside venue and not on the street.
URL:https://ncnca.org/event/cccx-2025-mtb-race-5-2/
LOCATION:Fort Ord Day Camp Cycling Area\, Watkins Gate Road\, Seaside\, California\, 93955\, United States
CATEGORIES:Juniors,MTB
ATTACH;FMTTYPE=image/jpeg:https://ncnca.org/wp-content/uploads/2024/12/Repack.jpg
GEO:36.6510737;-121.744541
X-APPLE-STRUCTURED-LOCATION;VALUE=URI;X-ADDRESS=Fort Ord Day Camp Cycling Area Watkins Gate Road Seaside California 93955 United States;X-APPLE-RADIUS=500;X-TITLE=Watkins Gate Road:geo:-121.744541,36.6510737
END:VEVENT
END:VCALENDAR