BEGIN:VCALENDAR
VERSION:2.0
PRODID:-// - ECPv6.15.17.1//NONSGML v1.0//EN
CALSCALE:GREGORIAN
METHOD:PUBLISH
X-ORIGINAL-URL:https://ncnca.org
X-WR-CALDESC:Events for 
REFRESH-INTERVAL;VALUE=DURATION:PT1H
X-Robots-Tag:noindex
X-PUBLISHED-TTL:PT1H
BEGIN:VTIMEZONE
TZID:America/Los_Angeles
BEGIN:DAYLIGHT
TZOFFSETFROM:-0800
TZOFFSETTO:-0700
TZNAME:PDT
DTSTART:20240310T100000
END:DAYLIGHT
BEGIN:STANDARD
TZOFFSETFROM:-0700
TZOFFSETTO:-0800
TZNAME:PST
DTSTART:20241103T090000
END:STANDARD
BEGIN:DAYLIGHT
TZOFFSETFROM:-0800
TZOFFSETTO:-0700
TZNAME:PDT
DTSTART:20250309T100000
END:DAYLIGHT
BEGIN:STANDARD
TZOFFSETFROM:-0700
TZOFFSETTO:-0800
TZNAME:PST
DTSTART:20251102T090000
END:STANDARD
BEGIN:DAYLIGHT
TZOFFSETFROM:-0800
TZOFFSETTO:-0700
TZNAME:PDT
DTSTART:20260308T100000
END:DAYLIGHT
BEGIN:STANDARD
TZOFFSETFROM:-0700
TZOFFSETTO:-0800
TZNAME:PST
DTSTART:20261101T090000
END:STANDARD
END:VTIMEZONE
BEGIN:VEVENT
DTSTART;VALUE=DATE:20250712
DTEND;VALUE=DATE:20250713
DTSTAMP:20260419T143357
CREATED:20241114T003837Z
LAST-MODIFIED:20250714T151926Z
UID:10002190-1752278400-1752364799@ncnca.org
SUMMARY:AVRT Pescadero Road Race - NCNCA District Road Race Championship (Elite M&W\, Masters M&W)
DESCRIPTION:This is NCNCA Road Race District Championship for Road Race all categories except Juniors.  It’s is the rider’s responsibility to know qualifications.  Per USAC Rule: \nUSAC 7J3 Eligiblity: (a) to be eligible for a State Championship jersey or medal\, a rider must hold a current USA Cycling annual license and reside in the state as shown as the rider’s license. (b) State championships are open to US Citizens and permanent residents (green card) with a USA Cycling annual license. (c) Members of UCI Road teams are not eligible for road championships unless there is a separate class for them. (d) at the option of the Administrators\, State Championships may include rider who are ineligible for the championship but championships will be awarded to only riders who are eligible. \nAlso review NCNCA District Championship policy: https://ncnca.org/wp-content/uploads/2025/01/2025-NCNCA-District-Championship-Policy.pdf \nAlto Velo – Race Promoter Event Website: https://www.altovelo.org/pescadero-rr \nVolunteers are needed! REGISTER to Volunteer HERE
URL:https://ncnca.org/event/avrt-pescadero-road-race/
LOCATION:Pescadero Road Race\, 350 Butano Cut-Off\, Pescadero\, CA\, 94060\, United States
CATEGORIES:Championships,Road,Road Race
ATTACH;FMTTYPE=image/jpeg:https://ncnca.org/wp-content/uploads/2024/11/PEscardero-2025.jpg
GEO:37.2479536;-122.3646592
X-APPLE-STRUCTURED-LOCATION;VALUE=URI;X-ADDRESS=Pescadero Road Race 350 Butano Cut-Off Pescadero CA 94060 United States;X-APPLE-RADIUS=500;X-TITLE=350 Butano Cut-Off:geo:-122.3646592,37.2479536
END:VEVENT
END:VCALENDAR