BEGIN:VCALENDAR
VERSION:2.0
PRODID:-// - ECPv6.15.17.1//NONSGML v1.0//EN
CALSCALE:GREGORIAN
METHOD:PUBLISH
X-ORIGINAL-URL:https://ncnca.org
X-WR-CALDESC:Events for 
REFRESH-INTERVAL;VALUE=DURATION:PT1H
X-Robots-Tag:noindex
X-PUBLISHED-TTL:PT1H
BEGIN:VTIMEZONE
TZID:America/Los_Angeles
BEGIN:DAYLIGHT
TZOFFSETFROM:-0800
TZOFFSETTO:-0700
TZNAME:PDT
DTSTART:20240310T100000
END:DAYLIGHT
BEGIN:STANDARD
TZOFFSETFROM:-0700
TZOFFSETTO:-0800
TZNAME:PST
DTSTART:20241103T090000
END:STANDARD
BEGIN:DAYLIGHT
TZOFFSETFROM:-0800
TZOFFSETTO:-0700
TZNAME:PDT
DTSTART:20250309T100000
END:DAYLIGHT
BEGIN:STANDARD
TZOFFSETFROM:-0700
TZOFFSETTO:-0800
TZNAME:PST
DTSTART:20251102T090000
END:STANDARD
BEGIN:DAYLIGHT
TZOFFSETFROM:-0800
TZOFFSETTO:-0700
TZNAME:PDT
DTSTART:20260308T100000
END:DAYLIGHT
BEGIN:STANDARD
TZOFFSETFROM:-0700
TZOFFSETTO:-0800
TZNAME:PST
DTSTART:20261101T090000
END:STANDARD
END:VTIMEZONE
BEGIN:VEVENT
DTSTART;VALUE=DATE:20250830
DTEND;VALUE=DATE:20250831
DTSTAMP:20260420T000910
CREATED:20241114T005746Z
LAST-MODIFIED:20250903T161956Z
UID:10002201-1756512000-1756598399@ncnca.org
SUMMARY:Athlone Time Trial - NCNCA District Time Trial Championship (Elite M&W\, Masters M&W)
DESCRIPTION:This race is also part of the Velo Promo 2025 California Cup!
URL:https://ncnca.org/event/athlone-time-trial-4/
LOCATION:Athlone ITT\, 9878 E Harvey Pettit Rd\, Le Grand\, 95333\, United States
CATEGORIES:Championships,Road,Time Trial
GEO:37.1709862;-120.3127127
X-APPLE-STRUCTURED-LOCATION;VALUE=URI;X-ADDRESS=Athlone ITT 9878 E Harvey Pettit Rd Le Grand 95333 United States;X-APPLE-RADIUS=500;X-TITLE=9878 E Harvey Pettit Rd:geo:-120.3127127,37.1709862
END:VEVENT
END:VCALENDAR