BEGIN:VCALENDAR
VERSION:2.0
PRODID:-// - ECPv6.15.17.1//NONSGML v1.0//EN
CALSCALE:GREGORIAN
METHOD:PUBLISH
X-ORIGINAL-URL:https://ncnca.org
X-WR-CALDESC:Events for 
REFRESH-INTERVAL;VALUE=DURATION:PT1H
X-Robots-Tag:noindex
X-PUBLISHED-TTL:PT1H
BEGIN:VTIMEZONE
TZID:America/Los_Angeles
BEGIN:DAYLIGHT
TZOFFSETFROM:-0800
TZOFFSETTO:-0700
TZNAME:PDT
DTSTART:20240310T100000
END:DAYLIGHT
BEGIN:STANDARD
TZOFFSETFROM:-0700
TZOFFSETTO:-0800
TZNAME:PST
DTSTART:20241103T090000
END:STANDARD
BEGIN:DAYLIGHT
TZOFFSETFROM:-0800
TZOFFSETTO:-0700
TZNAME:PDT
DTSTART:20250309T100000
END:DAYLIGHT
BEGIN:STANDARD
TZOFFSETFROM:-0700
TZOFFSETTO:-0800
TZNAME:PST
DTSTART:20251102T090000
END:STANDARD
BEGIN:DAYLIGHT
TZOFFSETFROM:-0800
TZOFFSETTO:-0700
TZNAME:PDT
DTSTART:20260308T100000
END:DAYLIGHT
BEGIN:STANDARD
TZOFFSETFROM:-0700
TZOFFSETTO:-0800
TZNAME:PST
DTSTART:20261101T090000
END:STANDARD
END:VTIMEZONE
BEGIN:VEVENT
DTSTART;VALUE=DATE:20251004
DTEND;VALUE=DATE:20251006
DTSTAMP:20260419T103851
CREATED:20250917T190724Z
LAST-MODIFIED:20250925T020808Z
UID:10002246-1759536000-1759708799@ncnca.org
SUMMARY:Redwood Rampage
DESCRIPTION:MTB Collegiate\, Junior and Open Men/Women Elite Categories! \nRace booklet soon to come! \nKeep an eye on cal poly Humboldt cycling Instagram \n\n\n  \n\n\n\n\n\n\n\n\n\n\nView this profile on Instagram\n\n\n\n\n\n\n\n\n\n\n\n\n\n\n\n\n\n\n\n\n\n\n  \nCal Poly Humboldt Cycling Club (@calpolyhumboldtcycling) • Instagram photos and videos
URL:https://ncnca.org/event/redwood-rampage/
LOCATION:1921 Hatchery Rd\, Arcata\, CA  95521\, 1921 Hatchery Rd\, Arcata\, CA\, 95521\, United States
CATEGORIES:Collegiate,Juniors,MTB
ATTACH;FMTTYPE=image/png:https://ncnca.org/wp-content/uploads/2025/09/Redwood-Rampage.png
END:VEVENT
BEGIN:VEVENT
DTSTART;VALUE=DATE:20251025
DTEND;VALUE=DATE:20251027
DTSTAMP:20260419T103851
CREATED:20250925T021914Z
LAST-MODIFIED:20250925T021914Z
UID:10002247-1761350400-1761523199@ncnca.org
SUMMARY:Spookfest
DESCRIPTION:
URL:https://ncnca.org/event/spookfest/
LOCATION:Skyline Wilderness Park\, 2201 Imola Ave\, Napa\, 94559\, United States
CATEGORIES:Collegiate,MTB,Women
GEO:38.2792897;-122.2489646
X-APPLE-STRUCTURED-LOCATION;VALUE=URI;X-ADDRESS=Skyline Wilderness Park 2201 Imola Ave Napa 94559 United States;X-APPLE-RADIUS=500;X-TITLE=2201 Imola Ave:geo:-122.2489646,38.2792897
END:VEVENT
END:VCALENDAR