BEGIN:VCALENDAR
VERSION:2.0
PRODID:-// - ECPv6.15.17.1//NONSGML v1.0//EN
CALSCALE:GREGORIAN
METHOD:PUBLISH
X-ORIGINAL-URL:https://ncnca.org
X-WR-CALDESC:Events for 
REFRESH-INTERVAL;VALUE=DURATION:PT1H
X-Robots-Tag:noindex
X-PUBLISHED-TTL:PT1H
BEGIN:VTIMEZONE
TZID:America/Los_Angeles
BEGIN:DAYLIGHT
TZOFFSETFROM:-0800
TZOFFSETTO:-0700
TZNAME:PDT
DTSTART:20220313T100000
END:DAYLIGHT
BEGIN:STANDARD
TZOFFSETFROM:-0700
TZOFFSETTO:-0800
TZNAME:PST
DTSTART:20221106T090000
END:STANDARD
BEGIN:DAYLIGHT
TZOFFSETFROM:-0800
TZOFFSETTO:-0700
TZNAME:PDT
DTSTART:20230312T100000
END:DAYLIGHT
BEGIN:STANDARD
TZOFFSETFROM:-0700
TZOFFSETTO:-0800
TZNAME:PST
DTSTART:20231105T090000
END:STANDARD
BEGIN:DAYLIGHT
TZOFFSETFROM:-0800
TZOFFSETTO:-0700
TZNAME:PDT
DTSTART:20240310T100000
END:DAYLIGHT
BEGIN:STANDARD
TZOFFSETFROM:-0700
TZOFFSETTO:-0800
TZNAME:PST
DTSTART:20241103T090000
END:STANDARD
END:VTIMEZONE
BEGIN:VEVENT
DTSTART;VALUE=DATE:20231021
DTEND;VALUE=DATE:20231022
DTSTAMP:20260419T094031
CREATED:20230830T170754Z
LAST-MODIFIED:20231117T225901Z
UID:10001578-1697846400-1697932799@ncnca.org
SUMMARY:Sagebrush Cyclocross Series 2023: Hidden Valley #2
DESCRIPTION:USA Cycling Sanctioned Cyclocross Races
URL:https://ncnca.org/event/sagebrush-cyclocross-series-2023-4/
LOCATION:Hidden Valley Regional Park\, 740 Parkway Dr\, Reno\, NV\, 89502\, United States
CATEGORIES:Cyclocross,Juniors,Women
ATTACH;FMTTYPE=image/jpeg:https://ncnca.org/wp-content/uploads/2023/08/RenoWheelmanFlyer-e1693414697143.jpg
GEO:39.493471;-119.714483
X-APPLE-STRUCTURED-LOCATION;VALUE=URI;X-ADDRESS=Hidden Valley Regional Park 740 Parkway Dr Reno NV 89502 United States;X-APPLE-RADIUS=500;X-TITLE=740 Parkway Dr:geo:-119.714483,39.493471
END:VEVENT
BEGIN:VEVENT
DTSTART;VALUE=DATE:20231021
DTEND;VALUE=DATE:20231022
DTSTAMP:20260419T094031
CREATED:20230830T165834Z
LAST-MODIFIED:20230830T165908Z
UID:10001579-1697875200-1697907600@ncnca.org
SUMMARY:Sagebrush Cyclocross Series 2023
DESCRIPTION:USA Cycling Sanctioned Cyclocross Races
URL:https://ncnca.org/event/sagebrush-cyclocross-series-2023/
LOCATION:CA\, United States
CATEGORIES:Cyclocross,Juniors,Women
ATTACH;FMTTYPE=image/jpeg:https://ncnca.org/wp-content/uploads/2023/08/RenoWheelmanFlyer-e1693414697143.jpg
GEO:36.778261;-119.4179324
END:VEVENT
BEGIN:VEVENT
DTSTART;TZID=America/Los_Angeles:20231104T150000
DTEND;TZID=America/Los_Angeles:20231104T170000
DTSTAMP:20260419T094031
CREATED:20230823T192636Z
LAST-MODIFIED:20230830T190846Z
UID:10001567-1699110000-1699117200@ncnca.org
SUMMARY:West Coast Cyclocross Points Prestige
DESCRIPTION:USA Cycling Sanctioned Cyclocross Races
URL:https://ncnca.org/event/west-coast-cyclocross-points-prestige/2023-11-04/
LOCATION:CA\, United States
CATEGORIES:Cyclocross
ATTACH;FMTTYPE=image/png:https://ncnca.org/wp-content/uploads/2023/08/WestCoast.png
GEO:36.778261;-119.4179324
END:VEVENT
BEGIN:VEVENT
DTSTART;VALUE=DATE:20231105
DTEND;VALUE=DATE:20231106
DTSTAMP:20260419T094031
CREATED:20230823T194312Z
LAST-MODIFIED:20231019T002818Z
UID:10001575-1699142400-1699228799@ncnca.org
SUMMARY:2023 NCNCA Cyclocross District Championships - Clipped In For Life
DESCRIPTION:Clipped In for Life and Sacramento Cyclocross are pleased to host the 2023 Northern California Nevada Cycling Association Cyclocross District Championship at Sunset Whitney Recreation Area in Rocklin! \nThis is the USA Cycling state championship for athletes living in Northern California and Nevada! It’s an opportunity to feed your competitive side\, earn USA Cycling Points\, and enjoy a second day of ‘cross at Sunset Whitney. With championship and non-championship categories\, everyone can join the fun! \nMore Information: https://www.clippedinforlife.org/our-races/sacramento-cyclocross/district-champs/ \nRace Information:\n– District championship medals awarded to top three finishers in every division.\n– All Championship category winners are eligible to purchase state champion jerseys.\n– Price listed is the online pre-registration price. Pre-registration closes Thursday\, November 2nd at 6:00 pm\n– Add $10 for on-site registration.\n– Parents must fill out waiver for each child taking part in the Kids Race. Kids Race is free.\n– All racers must sign-in at registration and fill out USA Cycling standard release form.\n– Registration opens at 8 am\, and closes for each division 10 minutes before start. \nA USAC license is required to race this event. Juniors\, men racing in a USAC Cat that includes a level 5 license\, and\nwomen racing in a USAC Cat that includes a level 4 license may purchase a one day license on site. All other categories\nrequire an annual USAC license. Registration price includes USAC insurance fee. Racing age as of 12/31/2024.
URL:https://ncnca.org/event/2023-ncnca-cyclocross-district-championships-clipped-in-for-life/
LOCATION:Sunset Whitney Recreation Area\, 4201 Midas Ave\, Rocklin\, CA\, 95677\, United States
CATEGORIES:Championships,Cyclocross,Juniors,Women
ATTACH;FMTTYPE=image/png:https://ncnca.org/wp-content/uploads/2023/08/NCNCACXdistrict.png
GEO:38.8104917;-121.2387413
X-APPLE-STRUCTURED-LOCATION;VALUE=URI;X-ADDRESS=Sunset Whitney Recreation Area 4201 Midas Ave Rocklin CA 95677 United States;X-APPLE-RADIUS=500;X-TITLE=4201 Midas Ave:geo:-121.2387413,38.8104917
END:VEVENT
BEGIN:VEVENT
DTSTART;TZID=America/Los_Angeles:20231118T150000
DTEND;TZID=America/Los_Angeles:20231118T170000
DTSTAMP:20260419T094031
CREATED:20230823T192636Z
LAST-MODIFIED:20230830T190846Z
UID:10001568-1700319600-1700326800@ncnca.org
SUMMARY:West Coast Cyclocross Points Prestige
DESCRIPTION:USA Cycling Sanctioned Cyclocross Races
URL:https://ncnca.org/event/west-coast-cyclocross-points-prestige/2023-11-18/
LOCATION:CA\, United States
CATEGORIES:Cyclocross
ATTACH;FMTTYPE=image/png:https://ncnca.org/wp-content/uploads/2023/08/WestCoast.png
GEO:36.778261;-119.4179324
END:VEVENT
BEGIN:VEVENT
DTSTART;TZID=America/Los_Angeles:20231119T080000
DTEND;TZID=America/Los_Angeles:20231119T170000
DTSTAMP:20260419T094031
CREATED:20230823T192636Z
LAST-MODIFIED:20230830T190846Z
UID:10001569-1700380800-1700413200@ncnca.org
SUMMARY:West Coast Cyclocross Points Prestige
DESCRIPTION:USA Cycling Sanctioned Cyclocross Races
URL:https://ncnca.org/event/west-coast-cyclocross-points-prestige/2023-11-19/
LOCATION:CA\, United States
CATEGORIES:Cyclocross
ATTACH;FMTTYPE=image/png:https://ncnca.org/wp-content/uploads/2023/08/WestCoast.png
GEO:36.778261;-119.4179324
END:VEVENT
END:VCALENDAR