BEGIN:VCALENDAR
VERSION:2.0
PRODID:-// - ECPv6.15.17.1//NONSGML v1.0//EN
CALSCALE:GREGORIAN
METHOD:PUBLISH
X-ORIGINAL-URL:https://ncnca.org
X-WR-CALDESC:Events for 
REFRESH-INTERVAL;VALUE=DURATION:PT1H
X-Robots-Tag:noindex
X-PUBLISHED-TTL:PT1H
BEGIN:VTIMEZONE
TZID:America/Los_Angeles
BEGIN:DAYLIGHT
TZOFFSETFROM:-0800
TZOFFSETTO:-0700
TZNAME:PDT
DTSTART:20180311T100000
END:DAYLIGHT
BEGIN:STANDARD
TZOFFSETFROM:-0700
TZOFFSETTO:-0800
TZNAME:PST
DTSTART:20181104T090000
END:STANDARD
BEGIN:DAYLIGHT
TZOFFSETFROM:-0800
TZOFFSETTO:-0700
TZNAME:PDT
DTSTART:20190310T100000
END:DAYLIGHT
BEGIN:STANDARD
TZOFFSETFROM:-0700
TZOFFSETTO:-0800
TZNAME:PST
DTSTART:20191103T090000
END:STANDARD
BEGIN:DAYLIGHT
TZOFFSETFROM:-0800
TZOFFSETTO:-0700
TZNAME:PDT
DTSTART:20200308T100000
END:DAYLIGHT
BEGIN:STANDARD
TZOFFSETFROM:-0700
TZOFFSETTO:-0800
TZNAME:PST
DTSTART:20201101T090000
END:STANDARD
BEGIN:DAYLIGHT
TZOFFSETFROM:-0800
TZOFFSETTO:-0700
TZNAME:PDT
DTSTART:20210314T100000
END:DAYLIGHT
BEGIN:STANDARD
TZOFFSETFROM:-0700
TZOFFSETTO:-0800
TZNAME:PST
DTSTART:20211107T090000
END:STANDARD
END:VTIMEZONE
BEGIN:VEVENT
DTSTART;VALUE=DATE:20200202
DTEND;VALUE=DATE:20200203
DTSTAMP:20260423T045916
CREATED:20191218T200018Z
LAST-MODIFIED:20191218T200018Z
UID:10001276-1580601600-1580687999@ncnca.org
SUMMARY:Rockville Bike Cyclocross Series
DESCRIPTION:
URL:https://ncnca.org/event/rockville-bike-cyclocross-series-2/2020-02-02/
LOCATION:Solano Community College\, 2288 Rockville Rd\, Fairfield\, CA\, 94534\, United States
CATEGORIES:Cyclocross
GEO:38.2440618;-122.1231199
X-APPLE-STRUCTURED-LOCATION;VALUE=URI;X-ADDRESS=Solano Community College 2288 Rockville Rd Fairfield CA 94534 United States;X-APPLE-RADIUS=500;X-TITLE=2288 Rockville Rd:geo:-122.1231199,38.2440618
END:VEVENT
BEGIN:VEVENT
DTSTART;VALUE=DATE:20200126
DTEND;VALUE=DATE:20200127
DTSTAMP:20260423T045916
CREATED:20191218T200018Z
LAST-MODIFIED:20191218T200018Z
UID:10001275-1579996800-1580083199@ncnca.org
SUMMARY:Rockville Bike Cyclocross Series
DESCRIPTION:
URL:https://ncnca.org/event/rockville-bike-cyclocross-series-2/2020-01-26/
LOCATION:Solano Community College\, 2288 Rockville Rd\, Fairfield\, CA\, 94534\, United States
CATEGORIES:Cyclocross
GEO:38.2440618;-122.1231199
X-APPLE-STRUCTURED-LOCATION;VALUE=URI;X-ADDRESS=Solano Community College 2288 Rockville Rd Fairfield CA 94534 United States;X-APPLE-RADIUS=500;X-TITLE=2288 Rockville Rd:geo:-122.1231199,38.2440618
END:VEVENT
BEGIN:VEVENT
DTSTART;VALUE=DATE:20200119
DTEND;VALUE=DATE:20200120
DTSTAMP:20260423T045916
CREATED:20191218T200018Z
LAST-MODIFIED:20191218T200018Z
UID:10001274-1579392000-1579478399@ncnca.org
SUMMARY:Rockville Bike Cyclocross Series
DESCRIPTION:
URL:https://ncnca.org/event/rockville-bike-cyclocross-series-2/2020-01-19/
LOCATION:Solano Community College\, 2288 Rockville Rd\, Fairfield\, CA\, 94534\, United States
CATEGORIES:Cyclocross
GEO:38.2440618;-122.1231199
X-APPLE-STRUCTURED-LOCATION;VALUE=URI;X-ADDRESS=Solano Community College 2288 Rockville Rd Fairfield CA 94534 United States;X-APPLE-RADIUS=500;X-TITLE=2288 Rockville Rd:geo:-122.1231199,38.2440618
END:VEVENT
BEGIN:VEVENT
DTSTART;VALUE=DATE:20200112
DTEND;VALUE=DATE:20200113
DTSTAMP:20260423T045916
CREATED:20191218T200018Z
LAST-MODIFIED:20191218T200018Z
UID:10001273-1578787200-1578873599@ncnca.org
SUMMARY:Rockville Bike Cyclocross Series
DESCRIPTION:
URL:https://ncnca.org/event/rockville-bike-cyclocross-series-2/2020-01-12/
LOCATION:Solano Community College\, 2288 Rockville Rd\, Fairfield\, CA\, 94534\, United States
CATEGORIES:Cyclocross
GEO:38.2440618;-122.1231199
X-APPLE-STRUCTURED-LOCATION;VALUE=URI;X-ADDRESS=Solano Community College 2288 Rockville Rd Fairfield CA 94534 United States;X-APPLE-RADIUS=500;X-TITLE=2288 Rockville Rd:geo:-122.1231199,38.2440618
END:VEVENT
BEGIN:VEVENT
DTSTART;VALUE=DATE:20200105
DTEND;VALUE=DATE:20200106
DTSTAMP:20260423T045916
CREATED:20191218T200018Z
LAST-MODIFIED:20191218T200018Z
UID:10001272-1578182400-1578268799@ncnca.org
SUMMARY:Rockville Bike Cyclocross Series
DESCRIPTION:
URL:https://ncnca.org/event/rockville-bike-cyclocross-series-2/2020-01-05/
LOCATION:Solano Community College\, 2288 Rockville Rd\, Fairfield\, CA\, 94534\, United States
CATEGORIES:Cyclocross
GEO:38.2440618;-122.1231199
X-APPLE-STRUCTURED-LOCATION;VALUE=URI;X-ADDRESS=Solano Community College 2288 Rockville Rd Fairfield CA 94534 United States;X-APPLE-RADIUS=500;X-TITLE=2288 Rockville Rd:geo:-122.1231199,38.2440618
END:VEVENT
BEGIN:VEVENT
DTSTART;VALUE=DATE:20191229
DTEND;VALUE=DATE:20191230
DTSTAMP:20260423T045916
CREATED:20191218T200018Z
LAST-MODIFIED:20191218T200018Z
UID:10001271-1577577600-1577663999@ncnca.org
SUMMARY:Rockville Bike Cyclocross Series
DESCRIPTION:
URL:https://ncnca.org/event/rockville-bike-cyclocross-series-2/2019-12-29/
LOCATION:Solano Community College\, 2288 Rockville Rd\, Fairfield\, CA\, 94534\, United States
CATEGORIES:Cyclocross
GEO:38.2440618;-122.1231199
X-APPLE-STRUCTURED-LOCATION;VALUE=URI;X-ADDRESS=Solano Community College 2288 Rockville Rd Fairfield CA 94534 United States;X-APPLE-RADIUS=500;X-TITLE=2288 Rockville Rd:geo:-122.1231199,38.2440618
END:VEVENT
END:VCALENDAR