BEGIN:VCALENDAR
VERSION:2.0
PRODID:-// - ECPv6.15.17.1//NONSGML v1.0//EN
CALSCALE:GREGORIAN
METHOD:PUBLISH
X-ORIGINAL-URL:https://ncnca.org
X-WR-CALDESC:Events for 
REFRESH-INTERVAL;VALUE=DURATION:PT1H
X-Robots-Tag:noindex
X-PUBLISHED-TTL:PT1H
BEGIN:VTIMEZONE
TZID:America/Los_Angeles
BEGIN:DAYLIGHT
TZOFFSETFROM:-0800
TZOFFSETTO:-0700
TZNAME:PDT
DTSTART:20240310T100000
END:DAYLIGHT
BEGIN:STANDARD
TZOFFSETFROM:-0700
TZOFFSETTO:-0800
TZNAME:PST
DTSTART:20241103T090000
END:STANDARD
BEGIN:DAYLIGHT
TZOFFSETFROM:-0800
TZOFFSETTO:-0700
TZNAME:PDT
DTSTART:20250309T100000
END:DAYLIGHT
BEGIN:STANDARD
TZOFFSETFROM:-0700
TZOFFSETTO:-0800
TZNAME:PST
DTSTART:20251102T090000
END:STANDARD
BEGIN:DAYLIGHT
TZOFFSETFROM:-0800
TZOFFSETTO:-0700
TZNAME:PDT
DTSTART:20260308T100000
END:DAYLIGHT
BEGIN:STANDARD
TZOFFSETFROM:-0700
TZOFFSETTO:-0800
TZNAME:PST
DTSTART:20261101T090000
END:STANDARD
BEGIN:DAYLIGHT
TZOFFSETFROM:-0800
TZOFFSETTO:-0700
TZNAME:PDT
DTSTART:20270314T100000
END:DAYLIGHT
BEGIN:STANDARD
TZOFFSETFROM:-0700
TZOFFSETTO:-0800
TZNAME:PST
DTSTART:20271107T090000
END:STANDARD
END:VTIMEZONE
BEGIN:VEVENT
DTSTART;VALUE=DATE:20251004
DTEND;VALUE=DATE:20251006
DTSTAMP:20260419T181142
CREATED:20250917T190724Z
LAST-MODIFIED:20250925T020808Z
UID:10002246-1759536000-1759708799@ncnca.org
SUMMARY:Redwood Rampage
DESCRIPTION:MTB Collegiate\, Junior and Open Men/Women Elite Categories! \nRace booklet soon to come! \nKeep an eye on cal poly Humboldt cycling Instagram \n\n\n  \n\n\n\n\n\n\n\n\n\n\nView this profile on Instagram\n\n\n\n\n\n\n\n\n\n\n\n\n\n\n\n\n\n\n\n\n\n\n  \nCal Poly Humboldt Cycling Club (@calpolyhumboldtcycling) • Instagram photos and videos
URL:https://ncnca.org/event/redwood-rampage/
LOCATION:1921 Hatchery Rd\, Arcata\, CA  95521\, 1921 Hatchery Rd\, Arcata\, CA\, 95521\, United States
CATEGORIES:Collegiate,Juniors,MTB
ATTACH;FMTTYPE=image/png:https://ncnca.org/wp-content/uploads/2025/09/Redwood-Rampage.png
END:VEVENT
BEGIN:VEVENT
DTSTART;VALUE=DATE:20251011
DTEND;VALUE=DATE:20251014
DTSTAMP:20260419T181142
CREATED:20240820T161953Z
LAST-MODIFIED:20250916T022855Z
UID:10002154-1760140800-1760399999@ncnca.org
SUMMARY:2025 UCI California MTB Triple
DESCRIPTION:
URL:https://ncnca.org/event/2025-uci-california-mtb-triple/
LOCATION:Scotts Flat Lake\, 23333 Scotts Flat Rd\, Nevada City\, CA\, 95959\, United States
CATEGORIES:Juniors,MTB
ATTACH;FMTTYPE=image/png:https://ncnca.org/wp-content/uploads/2024/08/0f1d82c3-7fec-43f5-b5f1-938d7b0e2e28.png
GEO:39.278078;-120.92224
X-APPLE-STRUCTURED-LOCATION;VALUE=URI;X-ADDRESS=Scotts Flat Lake 23333 Scotts Flat Rd Nevada City CA 95959 United States;X-APPLE-RADIUS=500;X-TITLE=23333 Scotts Flat Rd:geo:-120.92224,39.278078
END:VEVENT
BEGIN:VEVENT
DTSTART;VALUE=DATE:20251025
DTEND;VALUE=DATE:20251027
DTSTAMP:20260419T181142
CREATED:20250925T021914Z
LAST-MODIFIED:20250925T021914Z
UID:10002247-1761350400-1761523199@ncnca.org
SUMMARY:Spookfest
DESCRIPTION:
URL:https://ncnca.org/event/spookfest/
LOCATION:Skyline Wilderness Park\, 2201 Imola Ave\, Napa\, 94559\, United States
CATEGORIES:Collegiate,MTB,Women
GEO:38.2792897;-122.2489646
X-APPLE-STRUCTURED-LOCATION;VALUE=URI;X-ADDRESS=Skyline Wilderness Park 2201 Imola Ave Napa 94559 United States;X-APPLE-RADIUS=500;X-TITLE=2201 Imola Ave:geo:-122.2489646,38.2792897
END:VEVENT
BEGIN:VEVENT
DTSTART;VALUE=DATE:20260104
DTEND;VALUE=DATE:20260105
DTSTAMP:20260419T181142
CREATED:20251210T000729Z
LAST-MODIFIED:20251210T001021Z
UID:10002315-1767484800-1767571199@ncnca.org
SUMMARY:2026 3CX (CCCX) MTB Race #1
DESCRIPTION:Welcome to the 3CX 2026 Mountain Bike Race Series — the Bay Area’s biggest and longest-running MTB race series\, now entering its 29th year of full-gas racing at Fort Ord\, California. \n3CX is known for its fast\, flowy courses\, smooth rhythm\, and friendly racing atmosphere. Each round delivers a perfect blend of speed\, endurance\, and fun — open to all ages and skill levels\, from first-timers to elite XC racers. \nALL WEATHER RACING! \n\n📅 2026 Race Dates\n\nJanuary 4 · January 18 · February 1 · February 15 · March 29 \nAll races take place at Fort Ord\, CA\, featuring the same fast\, rolling terrain riders have loved since 1997.
URL:https://ncnca.org/event/2026-3cx-cccx-mtb-race-1/
LOCATION:Fort Ord Day Camp Cycling Area\, Watkins Gate Road\, Seaside\, California\, 93955\, United States
CATEGORIES:Juniors,MTB
GEO:36.6510737;-121.744541
X-APPLE-STRUCTURED-LOCATION;VALUE=URI;X-ADDRESS=Fort Ord Day Camp Cycling Area Watkins Gate Road Seaside California 93955 United States;X-APPLE-RADIUS=500;X-TITLE=Watkins Gate Road:geo:-121.744541,36.6510737
END:VEVENT
BEGIN:VEVENT
DTSTART;VALUE=DATE:20260118
DTEND;VALUE=DATE:20260119
DTSTAMP:20260419T181142
CREATED:20251210T001232Z
LAST-MODIFIED:20251210T001232Z
UID:10002317-1768694400-1768780799@ncnca.org
SUMMARY:2026 3CX (CCCX) MTB Race #2
DESCRIPTION:Welcome to the 3CX 2026 Mountain Bike Race Series — the Bay Area’s biggest and longest-running MTB race series\, now entering its 29th year of full-gas racing at Fort Ord\, California. \n3CX is known for its fast\, flowy courses\, smooth rhythm\, and friendly racing atmosphere. Each round delivers a perfect blend of speed\, endurance\, and fun — open to all ages and skill levels\, from first-timers to elite XC racers. \nALL WEATHER RACING! \n\n📅 2026 Race Dates\n\nJanuary 4 · January 18 · February 1 · February 15 · March 29 \nAll races take place at Fort Ord\, CA\, featuring the same fast\, rolling terrain riders have loved since 1997.
URL:https://ncnca.org/event/2026-3cx-cccx-mtb-race-2/
LOCATION:Fort Ord Day Camp Cycling Area\, Watkins Gate Road\, Seaside\, California\, 93955\, United States
CATEGORIES:Juniors,MTB
GEO:36.6510737;-121.744541
X-APPLE-STRUCTURED-LOCATION;VALUE=URI;X-ADDRESS=Fort Ord Day Camp Cycling Area Watkins Gate Road Seaside California 93955 United States;X-APPLE-RADIUS=500;X-TITLE=Watkins Gate Road:geo:-121.744541,36.6510737
END:VEVENT
BEGIN:VEVENT
DTSTART;VALUE=DATE:20260201
DTEND;VALUE=DATE:20260202
DTSTAMP:20260419T181142
CREATED:20251210T001335Z
LAST-MODIFIED:20251210T001335Z
UID:10002318-1769904000-1769990399@ncnca.org
SUMMARY:2026 3CX (CCCX) MTB Race #3
DESCRIPTION:Welcome to the 3CX 2026 Mountain Bike Race Series — the Bay Area’s biggest and longest-running MTB race series\, now entering its 29th year of full-gas racing at Fort Ord\, California. \n3CX is known for its fast\, flowy courses\, smooth rhythm\, and friendly racing atmosphere. Each round delivers a perfect blend of speed\, endurance\, and fun — open to all ages and skill levels\, from first-timers to elite XC racers. \nALL WEATHER RACING! \n\n📅 2026 Race Dates\n\nJanuary 4 · January 18 · February 1 · February 15 · March 29 \nAll races take place at Fort Ord\, CA\, featuring the same fast\, rolling terrain riders have loved since 1997.
URL:https://ncnca.org/event/2026-3cx-cccx-mtb-race-3/
LOCATION:Fort Ord Day Camp Cycling Area\, Watkins Gate Road\, Seaside\, California\, 93955\, United States
CATEGORIES:Juniors,MTB
GEO:36.6510737;-121.744541
X-APPLE-STRUCTURED-LOCATION;VALUE=URI;X-ADDRESS=Fort Ord Day Camp Cycling Area Watkins Gate Road Seaside California 93955 United States;X-APPLE-RADIUS=500;X-TITLE=Watkins Gate Road:geo:-121.744541,36.6510737
END:VEVENT
BEGIN:VEVENT
DTSTART;VALUE=DATE:20260215
DTEND;VALUE=DATE:20260216
DTSTAMP:20260419T181142
CREATED:20251210T001414Z
LAST-MODIFIED:20251210T001414Z
UID:10002319-1771113600-1771199999@ncnca.org
SUMMARY:2026 3CX (CCCX) MTB Race #4
DESCRIPTION:Welcome to the 3CX 2026 Mountain Bike Race Series — the Bay Area’s biggest and longest-running MTB race series\, now entering its 29th year of full-gas racing at Fort Ord\, California. \n3CX is known for its fast\, flowy courses\, smooth rhythm\, and friendly racing atmosphere. Each round delivers a perfect blend of speed\, endurance\, and fun — open to all ages and skill levels\, from first-timers to elite XC racers. \nALL WEATHER RACING! \n\n📅 2026 Race Dates\n\nJanuary 4 · January 18 · February 1 · February 15 · March 29 \nAll races take place at Fort Ord\, CA\, featuring the same fast\, rolling terrain riders have loved since 1997.
URL:https://ncnca.org/event/2026-3cx-cccx-mtb-race-4/
LOCATION:Fort Ord Day Camp Cycling Area\, Watkins Gate Road\, Seaside\, California\, 93955\, United States
CATEGORIES:Juniors,MTB
GEO:36.6510737;-121.744541
X-APPLE-STRUCTURED-LOCATION;VALUE=URI;X-ADDRESS=Fort Ord Day Camp Cycling Area Watkins Gate Road Seaside California 93955 United States;X-APPLE-RADIUS=500;X-TITLE=Watkins Gate Road:geo:-121.744541,36.6510737
END:VEVENT
BEGIN:VEVENT
DTSTART;VALUE=DATE:20260329
DTEND;VALUE=DATE:20260330
DTSTAMP:20260419T181142
CREATED:20251210T001613Z
LAST-MODIFIED:20251210T001613Z
UID:10002320-1774742400-1774828799@ncnca.org
SUMMARY:2026 3CX (CCCX) MTB Race #5
DESCRIPTION:Welcome to the 3CX 2026 Mountain Bike Race Series — the Bay Area’s biggest and longest-running MTB race series\, now entering its 29th year of full-gas racing at Fort Ord\, California. \n3CX is known for its fast\, flowy courses\, smooth rhythm\, and friendly racing atmosphere. Each round delivers a perfect blend of speed\, endurance\, and fun — open to all ages and skill levels\, from first-timers to elite XC racers. \nALL WEATHER RACING! \n\n📅 2026 Race Dates\n\nJanuary 4 · January 18 · February 1 · February 15 · March 29 \nAll races take place at Fort Ord\, CA\, featuring the same fast\, rolling terrain riders have loved since 1997.
URL:https://ncnca.org/event/2026-3cx-cccx-mtb-race-5/
LOCATION:Fort Ord Day Camp Cycling Area\, Watkins Gate Road\, Seaside\, California\, 93955\, United States
CATEGORIES:Juniors,MTB
GEO:36.6510737;-121.744541
X-APPLE-STRUCTURED-LOCATION;VALUE=URI;X-ADDRESS=Fort Ord Day Camp Cycling Area Watkins Gate Road Seaside California 93955 United States;X-APPLE-RADIUS=500;X-TITLE=Watkins Gate Road:geo:-121.744541,36.6510737
END:VEVENT
END:VCALENDAR