BEGIN:VCALENDAR
VERSION:2.0
PRODID:-// - ECPv6.15.17.1//NONSGML v1.0//EN
CALSCALE:GREGORIAN
METHOD:PUBLISH
X-ORIGINAL-URL:https://ncnca.org
X-WR-CALDESC:Events for 
REFRESH-INTERVAL;VALUE=DURATION:PT1H
X-Robots-Tag:noindex
X-PUBLISHED-TTL:PT1H
BEGIN:VTIMEZONE
TZID:America/Los_Angeles
BEGIN:DAYLIGHT
TZOFFSETFROM:-0800
TZOFFSETTO:-0700
TZNAME:PDT
DTSTART:20190310T100000
END:DAYLIGHT
BEGIN:STANDARD
TZOFFSETFROM:-0700
TZOFFSETTO:-0800
TZNAME:PST
DTSTART:20191103T090000
END:STANDARD
BEGIN:DAYLIGHT
TZOFFSETFROM:-0800
TZOFFSETTO:-0700
TZNAME:PDT
DTSTART:20200308T100000
END:DAYLIGHT
BEGIN:STANDARD
TZOFFSETFROM:-0700
TZOFFSETTO:-0800
TZNAME:PST
DTSTART:20201101T090000
END:STANDARD
BEGIN:DAYLIGHT
TZOFFSETFROM:-0800
TZOFFSETTO:-0700
TZNAME:PDT
DTSTART:20210314T100000
END:DAYLIGHT
BEGIN:STANDARD
TZOFFSETFROM:-0700
TZOFFSETTO:-0800
TZNAME:PST
DTSTART:20211107T090000
END:STANDARD
END:VTIMEZONE
BEGIN:VEVENT
DTSTART;VALUE=DATE:20200215
DTEND;VALUE=DATE:20200216
DTSTAMP:20260421T114355
CREATED:20191204T210931Z
LAST-MODIFIED:20200207T080923Z
UID:10001210-1581724800-1581811199@ncnca.org
SUMMARY:Cantua Creek Road Race – VP #1
DESCRIPTION:
URL:https://ncnca.org/event/cantua-creek-road-race-vp-1-2/
LOCATION:Cantua Creek\, S Derrick Ave & CA-33\, Coalinga\, CA\, 93210\, United States
CATEGORIES:Premier,Road,Road Race
GEO:36.2816911;-120.3005797
X-APPLE-STRUCTURED-LOCATION;VALUE=URI;X-ADDRESS=Cantua Creek S Derrick Ave & CA-33 Coalinga CA 93210 United States;X-APPLE-RADIUS=500;X-TITLE=S Derrick Ave & CA-33:geo:-120.3005797,36.2816911
END:VEVENT
END:VCALENDAR