BEGIN:VCALENDAR
VERSION:2.0
PRODID:-// - ECPv6.15.17.1//NONSGML v1.0//EN
CALSCALE:GREGORIAN
METHOD:PUBLISH
X-ORIGINAL-URL:https://ncnca.org
X-WR-CALDESC:Events for 
REFRESH-INTERVAL;VALUE=DURATION:PT1H
X-Robots-Tag:noindex
X-PUBLISHED-TTL:PT1H
BEGIN:VTIMEZONE
TZID:America/Los_Angeles
BEGIN:DAYLIGHT
TZOFFSETFROM:-0800
TZOFFSETTO:-0700
TZNAME:PDT
DTSTART:20220313T100000
END:DAYLIGHT
BEGIN:STANDARD
TZOFFSETFROM:-0700
TZOFFSETTO:-0800
TZNAME:PST
DTSTART:20221106T090000
END:STANDARD
BEGIN:DAYLIGHT
TZOFFSETFROM:-0800
TZOFFSETTO:-0700
TZNAME:PDT
DTSTART:20230312T100000
END:DAYLIGHT
BEGIN:STANDARD
TZOFFSETFROM:-0700
TZOFFSETTO:-0800
TZNAME:PST
DTSTART:20231105T090000
END:STANDARD
BEGIN:DAYLIGHT
TZOFFSETFROM:-0800
TZOFFSETTO:-0700
TZNAME:PDT
DTSTART:20240310T100000
END:DAYLIGHT
BEGIN:STANDARD
TZOFFSETFROM:-0700
TZOFFSETTO:-0800
TZNAME:PST
DTSTART:20241103T090000
END:STANDARD
BEGIN:DAYLIGHT
TZOFFSETFROM:-0800
TZOFFSETTO:-0700
TZNAME:PDT
DTSTART:20250309T100000
END:DAYLIGHT
BEGIN:STANDARD
TZOFFSETFROM:-0700
TZOFFSETTO:-0800
TZNAME:PST
DTSTART:20251102T090000
END:STANDARD
END:VTIMEZONE
BEGIN:VEVENT
DTSTART;VALUE=DATE:20230312
DTEND;VALUE=DATE:20230313
DTSTAMP:20260420T155009
CREATED:20221202T050940Z
LAST-MODIFIED:20230313T203045Z
UID:10001508-1678579200-1678665599@ncnca.org
SUMMARY:SGW Bariani Road Race
DESCRIPTION:
URL:https://ncnca.org/event/sgw-bariani-road-race/
LOCATION:Bariani Road Race\, 30400 Co Rd 16\, Zamora\, CA\, 95698\, United States
CATEGORIES:Juniors,Road,Road Race
GEO:38.7529183;-121.9438447
X-APPLE-STRUCTURED-LOCATION;VALUE=URI;X-ADDRESS=Bariani Road Race 30400 Co Rd 16 Zamora CA 95698 United States;X-APPLE-RADIUS=500;X-TITLE=30400 Co Rd 16:geo:-121.9438447,38.7529183
END:VEVENT
BEGIN:VEVENT
DTSTART;VALUE=DATE:20230408
DTEND;VALUE=DATE:20230409
DTSTAMP:20260420T155009
CREATED:20221202T051714Z
LAST-MODIFIED:20230411T203056Z
UID:10001514-1680912000-1680998399@ncnca.org
SUMMARY:Copperopolis Road Race
DESCRIPTION:
URL:https://ncnca.org/event/copperopolis-road-race-2/
LOCATION:Copperopolis Road Race\, Milton\, CA\, 95230\, United States
CATEGORIES:Juniors,Road,Road Race
GEO:38.032608;-120.851875
END:VEVENT
BEGIN:VEVENT
DTSTART;VALUE=DATE:20230429
DTEND;VALUE=DATE:20230430
DTSTAMP:20260420T155009
CREATED:20221202T051901Z
LAST-MODIFIED:20230501T204523Z
UID:10001516-1682726400-1682812799@ncnca.org
SUMMARY:2023 NCNCA P/1/2 Road Race Championship & Berkeley Hills Road Race
DESCRIPTION:Please note this is a race for everyone\, but the P/1/2 categories for Men and & Women will be the only categories that will be championship categories. \nFULL RACE INFORMATION PACKET HERE \n 
URL:https://ncnca.org/event/berkeley-hills-road-race-5/
LOCATION:Orinda\, Orinda\, CA\, United States
CATEGORIES:Championships,Juniors,Road,Road Race
END:VEVENT
BEGIN:VEVENT
DTSTART;VALUE=DATE:20230604
DTEND;VALUE=DATE:20230605
DTSTAMP:20260420T155009
CREATED:20221202T053101Z
LAST-MODIFIED:20230612T084801Z
UID:10001525-1685836800-1685923199@ncnca.org
SUMMARY:2023 NCNCA Masters District Road Championship & Regalado Road Race
DESCRIPTION:Anyone can race in the NCNCA District Championships\, but you must reside in the NCNCA to qualify for championships.  Current District Championship Policy
URL:https://ncnca.org/event/regalado-road-race-3/
LOCATION:Regalado Road Race\, 12000 California 120\, Oakdale\, CA\, 95361\, United States
CATEGORIES:Championships,Road,Road Race
GEO:37.7732765;-120.7738069
X-APPLE-STRUCTURED-LOCATION;VALUE=URI;X-ADDRESS=Regalado Road Race 12000 California 120 Oakdale CA 95361 United States;X-APPLE-RADIUS=500;X-TITLE=12000 California 120:geo:-120.7738069,37.7732765
END:VEVENT
BEGIN:VEVENT
DTSTART;VALUE=DATE:20230702
DTEND;VALUE=DATE:20230703
DTSTAMP:20260420T155009
CREATED:20221202T053337Z
LAST-MODIFIED:20230629T202822Z
UID:10001527-1688256000-1688342399@ncnca.org
SUMMARY:Leesville Gap Road Race
DESCRIPTION:
URL:https://ncnca.org/event/leesville-gap-road-race-2/
LOCATION:Williams\, CA\, Williams\, CA\, United States
CATEGORIES:Road,Road Race
END:VEVENT
BEGIN:VEVENT
DTSTART;VALUE=DATE:20230722
DTEND;VALUE=DATE:20230723
DTSTAMP:20260420T155009
CREATED:20221202T053204Z
LAST-MODIFIED:20230724T180537Z
UID:10001526-1689984000-1690070399@ncnca.org
SUMMARY:Pescadero Road Race
DESCRIPTION: Pescadero Road Race update – moved to 7/22!  \nDue to the closure of Stage Road\, we are pushing the race date and adjusting the course. We will be closing HWY 1 northbound to ensure safe and fair racing for all athletes. Lots of races have been canceled this year\, and we want to ensure that Pescadero stays on the calendar! \nAlto Velo welcomes all race participants regardless of financial means. If the race fee is a financial barrier for you then please reach out to races(at)altovelo.org for a free entry. \nSTRAVA COURSE ROUTE \n \nRIDERS NOTE; \nThe course does NOT pass the start area each lap. Familiarize yourself with the course. \nPlease be respectful of local residents and other road users along the course. The course is open to all traffic in both directions\, be aware of vehicles wanting to pass. Keep to the right side of the road as much as possible\, particularly on Haskins climb to the finish line. Please stay to the right. Take caution on the descents. \nPlease do not throw your gel and bar wrappers on the roadside; keep them in your pockets. If you must discard wrappers\, please do so in the feed zone where race volunteers will collect it. \nThere will also be two clothing drop locations to drop arm warmers or vests\, at the start of the feed zone or as you pass the junction of Butano Cut-off. Race volunteers will bring dropped clothing items back to the registration area for collecting\, please ensure your clothing has your name. \nThere will be neutral feed\, and volunteer feeders will be positioned at the beginning of the feed zone. \nHungry afterward? Support the local businesses – the gas station does excellent tacos\, and the Arcangeli Grocery store does great sandwiches. \nThanks\, and have a great race!
URL:https://ncnca.org/event/pescadero-road-race-4/
LOCATION:Pescadero Road Race\, 350 Butano Cut-Off\, Pescadero\, CA\, 94060\, United States
CATEGORIES:Road,Road Race
ATTACH;FMTTYPE=image/jpeg:https://ncnca.org/wp-content/uploads/2022/12/Pescadero2023.jpg
GEO:37.2479536;-122.3646592
X-APPLE-STRUCTURED-LOCATION;VALUE=URI;X-ADDRESS=Pescadero Road Race 350 Butano Cut-Off Pescadero CA 94060 United States;X-APPLE-RADIUS=500;X-TITLE=350 Butano Cut-Off:geo:-122.3646592,37.2479536
END:VEVENT
BEGIN:VEVENT
DTSTART;VALUE=DATE:20230806
DTEND;VALUE=DATE:20230807
DTSTAMP:20260420T155009
CREATED:20221202T053834Z
LAST-MODIFIED:20230724T174153Z
UID:10001532-1691280000-1691366399@ncnca.org
SUMMARY:Patterson Pass Road Race
DESCRIPTION:
URL:https://ncnca.org/event/patterson-pass-road-race-2/
LOCATION:Patterson Pass Road Race\, Midway Rd & Patterson Pass Rd\, Tracy\, CA\, 95391\, United States
CATEGORIES:Road,Road Race
GEO:37.7149019;-121.5588433
X-APPLE-STRUCTURED-LOCATION;VALUE=URI;X-ADDRESS=Patterson Pass Road Race Midway Rd & Patterson Pass Rd Tracy CA 95391 United States;X-APPLE-RADIUS=500;X-TITLE=Midway Rd & Patterson Pass Rd:geo:-121.5588433,37.7149019
END:VEVENT
BEGIN:VEVENT
DTSTART;VALUE=DATE:20230812
DTEND;VALUE=DATE:20230813
DTSTAMP:20260420T155009
CREATED:20221202T053928Z
LAST-MODIFIED:20230803T003156Z
UID:10001533-1691798400-1691884799@ncnca.org
SUMMARY:Dunnigan Hills Road Race
DESCRIPTION:
URL:https://ncnca.org/event/dunnigan-hills-road-race-2/
LOCATION:Dunnigan Hills\, 4040 Road 89\, Dunnigan\, CA\, 95937\, United States
CATEGORIES:Road,Road Race
GEO:38.8812001;-121.9713598
X-APPLE-STRUCTURED-LOCATION;VALUE=URI;X-ADDRESS=Dunnigan Hills 4040 Road 89 Dunnigan CA 95937 United States;X-APPLE-RADIUS=500;X-TITLE=4040 Road 89:geo:-121.9713598,38.8812001
END:VEVENT
BEGIN:VEVENT
DTSTART;VALUE=DATE:20230819
DTEND;VALUE=DATE:20230820
DTSTAMP:20260420T155009
CREATED:20230511T194833Z
LAST-MODIFIED:20230820T222524Z
UID:10001562-1692403200-1692489599@ncnca.org
SUMMARY:San Ardo Road Race - 2023 NCNCA U23 & Junior Road Race Championships
DESCRIPTION:
URL:https://ncnca.org/event/san-ardo-road-race-3/
LOCATION:San Ardo Road Race\, 62428 Center St\, San Ardo\, CA\, 93450\, United States
CATEGORIES:Championships,Juniors,Road,Road Race
GEO:36.0202064;-120.9051299
X-APPLE-STRUCTURED-LOCATION;VALUE=URI;X-ADDRESS=San Ardo Road Race 62428 Center St San Ardo CA 93450 United States;X-APPLE-RADIUS=500;X-TITLE=62428 Center St:geo:-120.9051299,36.0202064
END:VEVENT
BEGIN:VEVENT
DTSTART;VALUE=DATE:20230820
DTEND;VALUE=DATE:20230821
DTSTAMP:20260420T155009
CREATED:20221203T191759Z
LAST-MODIFIED:20230821T170912Z
UID:10001535-1692489600-1692575999@ncnca.org
SUMMARY:University Road Race
DESCRIPTION:
URL:https://ncnca.org/event/university-road-race-2/
LOCATION:University Road Race\, East Remote Parking Lot\, Santa Cruz\, CA\, 95064\, United States
CATEGORIES:Road,Road Race
GEO:36.9910014;-122.0530383
X-APPLE-STRUCTURED-LOCATION;VALUE=URI;X-ADDRESS=University Road Race East Remote Parking Lot Santa Cruz CA 95064 United States;X-APPLE-RADIUS=500;X-TITLE=East Remote Parking Lot:geo:-122.0530383,36.9910014
END:VEVENT
BEGIN:VEVENT
DTSTART;VALUE=DATE:20230908
DTEND;VALUE=DATE:20230911
DTSTAMP:20260420T155009
CREATED:20221202T051422Z
LAST-MODIFIED:20230814T150648Z
UID:10001545-1694131200-1694390399@ncnca.org
SUMMARY:Chico Stage Race - Cancelled
DESCRIPTION:
URL:https://ncnca.org/event/chico-stage-race-road-race/
LOCATION:Chico Stage Race\, 5250 California 162\, Willows\, CA\, 95988\, United States
CATEGORIES:Criterium,Road,Road Race,Stage Race,Time Trial
GEO:39.5273886;-122.3084467
X-APPLE-STRUCTURED-LOCATION;VALUE=URI;X-ADDRESS=Chico Stage Race 5250 California 162 Willows CA 95988 United States;X-APPLE-RADIUS=500;X-TITLE=5250 California 162:geo:-122.3084467,39.5273886
END:VEVENT
BEGIN:VEVENT
DTSTART;VALUE=DATE:20230910
DTEND;VALUE=DATE:20230911
DTSTAMP:20260420T155009
CREATED:20221203T192522Z
LAST-MODIFIED:20230918T231104Z
UID:10001541-1694304000-1694390399@ncnca.org
SUMMARY:Henleyville Road Race
DESCRIPTION:
URL:https://ncnca.org/event/henleyville-road-race-2/
LOCATION:Corning\, Corning\, CA\, United States
CATEGORIES:Road,Road Race
GEO:39.9276572;-122.1791556
END:VEVENT
BEGIN:VEVENT
DTSTART;VALUE=DATE:20230910
DTEND;VALUE=DATE:20230911
DTSTAMP:20260420T155009
CREATED:20221203T192038Z
LAST-MODIFIED:20230831T000208Z
UID:10001537-1694304000-1694390399@ncnca.org
SUMMARY:Winters Road Race
DESCRIPTION:
URL:https://ncnca.org/event/winters-road-race/
LOCATION:Winters Road Race\, Railroad Ave & Main St\, Winters\, CA\, 95694\, United States
CATEGORIES:Juniors,Road,Road Race
GEO:38.521848;-121.9688703
X-APPLE-STRUCTURED-LOCATION;VALUE=URI;X-ADDRESS=Winters Road Race Railroad Ave & Main St Winters CA 95694 United States;X-APPLE-RADIUS=500;X-TITLE=Railroad Ave & Main St:geo:-121.9688703,38.521848
END:VEVENT
BEGIN:VEVENT
DTSTART;VALUE=DATE:20240217
DTEND;VALUE=DATE:20240218
DTSTAMP:20260420T155009
CREATED:20231022T235025Z
LAST-MODIFIED:20240302T223348Z
UID:10001593-1708128000-1708214399@ncnca.org
SUMMARY:Cantua Creek Road Race
DESCRIPTION:
URL:https://ncnca.org/event/cantua-creek-road-race-4/
LOCATION:Cantua Creek\, S Derrick Ave & CA-33\, Coalinga\, CA\, 93210\, United States
CATEGORIES:Road,Road Race
GEO:36.2816911;-120.3005797
X-APPLE-STRUCTURED-LOCATION;VALUE=URI;X-ADDRESS=Cantua Creek S Derrick Ave & CA-33 Coalinga CA 93210 United States;X-APPLE-RADIUS=500;X-TITLE=S Derrick Ave & CA-33:geo:-120.3005797,36.2816911
END:VEVENT
BEGIN:VEVENT
DTSTART;VALUE=DATE:20240218
DTEND;VALUE=DATE:20240219
DTSTAMP:20260420T155009
CREATED:20231022T235153Z
LAST-MODIFIED:20240302T223442Z
UID:10001594-1708214400-1708300799@ncnca.org
SUMMARY:Pine Flat Road Race
DESCRIPTION:
URL:https://ncnca.org/event/pine-flat-road-race-3/
LOCATION:Pine Flat Road Race\, 32303 E Trimmer Springs Rd\, Sanger\, CA\, 93657\, United States
CATEGORIES:Road,Road Race
GEO:36.8650672;-119.3180744
X-APPLE-STRUCTURED-LOCATION;VALUE=URI;X-ADDRESS=Pine Flat Road Race 32303 E Trimmer Springs Rd Sanger CA 93657 United States;X-APPLE-RADIUS=500;X-TITLE=32303 E Trimmer Springs Rd:geo:-119.3180744,36.8650672
END:VEVENT
BEGIN:VEVENT
DTSTART;VALUE=DATE:20240302
DTEND;VALUE=DATE:20240303
DTSTAMP:20260420T155009
CREATED:20231022T235536Z
LAST-MODIFIED:20240314T201848Z
UID:10001597-1709337600-1709423999@ncnca.org
SUMMARY:Snelling Road Race - Postponed to 6/8
DESCRIPTION:Snelling Road Race is part of the 2024 NCNCA Premier Series \nSnelling Road Race Registration: https://www.bikereg.com/snelling-road-race \nUSA Cycling Snelling RR Race Flyer \nStrava Course Profile for Snelling RR \n  \nJunior Parents\, Coaches and Teams please note\, NorCal NICA Redwood and Repack have a race scheduled on this day.
URL:https://ncnca.org/event/snelling-road-race-3/
LOCATION:Snelling Road Race\, 2641 Merced Falls Rd\, Snelling\, CA\, 95369\, United States
CATEGORIES:Juniors,Premier,Road,Road Race
GEO:37.5215811;-120.4162441
X-APPLE-STRUCTURED-LOCATION;VALUE=URI;X-ADDRESS=Snelling Road Race 2641 Merced Falls Rd Snelling CA 95369 United States;X-APPLE-RADIUS=500;X-TITLE=2641 Merced Falls Rd:geo:-120.4162441,37.5215811
END:VEVENT
BEGIN:VEVENT
DTSTART;VALUE=DATE:20240317
DTEND;VALUE=DATE:20240318
DTSTAMP:20260420T155009
CREATED:20231022T235836Z
LAST-MODIFIED:20240320T035621Z
UID:10001600-1710633600-1710719999@ncnca.org
SUMMARY:Bariani Olive Oil Road Race - 2024 NCNCA Premier Series
DESCRIPTION:2024 NCNCA Premier Series – Double BAR/BAT points! \nBariani Road Race Registration: https://www.bikereg.com/bariani-road-race \nUSAC Race Flyer for Bariani Road Race \nStrava Course for Bariani Road Race \nKatie Miu Photography – Bariani Road Race \nGreg Beliera Photography – Bariani Road Race
URL:https://ncnca.org/event/bariani-road-race-5/
LOCATION:Bariani Road Race\, 30400 Co Rd 16\, Zamora\, CA\, 95698\, United States
CATEGORIES:Juniors,Premier,Road,Road Race,Women
ATTACH;FMTTYPE=image/jpeg:https://ncnca.org/wp-content/uploads/2023/10/BarianiRR-e1709583421960.jpg
GEO:38.7529183;-121.9438447
X-APPLE-STRUCTURED-LOCATION;VALUE=URI;X-ADDRESS=Bariani Road Race 30400 Co Rd 16 Zamora CA 95698 United States;X-APPLE-RADIUS=500;X-TITLE=30400 Co Rd 16:geo:-121.9438447,38.7529183
END:VEVENT
BEGIN:VEVENT
DTSTART;VALUE=DATE:20240330
DTEND;VALUE=DATE:20240331
DTSTAMP:20260420T155009
CREATED:20231023T000135Z
LAST-MODIFIED:20240401T183227Z
UID:10001603-1711756800-1711843199@ncnca.org
SUMMARY:Copperopolis Road Race - 2024 NCNCA Premier Series
DESCRIPTION:
URL:https://ncnca.org/event/copperopolis-road-race-3/
LOCATION:Copperopolis Road Race\, Milton\, CA\, 95230\, United States
CATEGORIES:Juniors,Road,Road Race
GEO:38.032608;-120.851875
END:VEVENT
BEGIN:VEVENT
DTSTART;VALUE=DATE:20240427
DTEND;VALUE=DATE:20240428
DTSTAMP:20260420T155009
CREATED:20231026T213635Z
LAST-MODIFIED:20240429T203059Z
UID:10001611-1714176000-1714262399@ncnca.org
SUMMARY:Berkeley Hills Road Race - 2024 District Championship & NCNCA Premier Series
DESCRIPTION:Berkeley Hills Road Race is the 2024 NCNCA District Championship Road Race for P/1/2/3 & U23 Women and Men’s Categories.\nThe Berkeley Omnium is also part of the 2024 NCNCA Premier Series = Double BAR/BAT points! \nREAD the Berkeley Bicycle Club Omnium Packet in detail!
URL:https://ncnca.org/event/berkeley-hills-road-race-6/
LOCATION:Orinda\, Orinda\, CA\, United States
CATEGORIES:Championships,Juniors,Premier,Road,Road Race,Women
ATTACH;FMTTYPE=image/jpeg:https://ncnca.org/wp-content/uploads/2023/10/Berkely-BC.jpg
END:VEVENT
BEGIN:VEVENT
DTSTART;VALUE=DATE:20240525
DTEND;VALUE=DATE:20240526
DTSTAMP:20260420T155009
CREATED:20231026T214303Z
LAST-MODIFIED:20240523T175649Z
UID:10001616-1716595200-1716681599@ncnca.org
SUMMARY:Wards Ferry Road Race
DESCRIPTION:
URL:https://ncnca.org/event/wards-ferry-road-race-3/
LOCATION:Wards Ferry\, Tuolumne Rd & Nugget Blvd\, Sonora\, CA\, United States
CATEGORIES:Road,Road Race
GEO:37.9617912;-120.3251967
X-APPLE-STRUCTURED-LOCATION;VALUE=URI;X-ADDRESS=Wards Ferry Tuolumne Rd & Nugget Blvd Sonora CA United States;X-APPLE-RADIUS=500;X-TITLE=Tuolumne Rd & Nugget Blvd:geo:-120.3251967,37.9617912
END:VEVENT
BEGIN:VEVENT
DTSTART;VALUE=DATE:20240608
DTEND;VALUE=DATE:20240609
DTSTAMP:20260420T155009
CREATED:20240314T201701Z
LAST-MODIFIED:20240610T170228Z
UID:10002116-1717804800-1717891199@ncnca.org
SUMMARY:Snelling Road Race - 2024 NCNCA Premier Series - Postponed Date
DESCRIPTION:
URL:https://ncnca.org/event/snelling-road-race-postponed-date/
LOCATION:Snelling Road Race\, 2641 Merced Falls Rd\, Snelling\, CA\, 95369\, United States
CATEGORIES:Juniors,Premier,Road,Road Race
ATTACH;FMTTYPE=image/jpeg:https://ncnca.org/wp-content/uploads/2024/03/SnellingWEb-e1716616363544.jpg
GEO:37.5215811;-120.4162441
X-APPLE-STRUCTURED-LOCATION;VALUE=URI;X-ADDRESS=Snelling Road Race 2641 Merced Falls Rd Snelling CA 95369 United States;X-APPLE-RADIUS=500;X-TITLE=2641 Merced Falls Rd:geo:-120.4162441,37.5215811
END:VEVENT
BEGIN:VEVENT
DTSTART;VALUE=DATE:20240609
DTEND;VALUE=DATE:20240610
DTSTAMP:20260420T155009
CREATED:20231026T214548Z
LAST-MODIFIED:20240531T222133Z
UID:10001618-1717891200-1717977599@ncnca.org
SUMMARY:Regalado Road Race
DESCRIPTION:
URL:https://ncnca.org/event/regalado-road-race-4/
LOCATION:Regalado Road Race\, 12000 California 120\, Oakdale\, CA\, 95361\, United States
CATEGORIES:Road,Road Race
GEO:37.7732765;-120.7738069
X-APPLE-STRUCTURED-LOCATION;VALUE=URI;X-ADDRESS=Regalado Road Race 12000 California 120 Oakdale CA 95361 United States;X-APPLE-RADIUS=500;X-TITLE=12000 California 120:geo:-120.7738069,37.7732765
END:VEVENT
BEGIN:VEVENT
DTSTART;VALUE=DATE:20240615
DTEND;VALUE=DATE:20240616
DTSTAMP:20260420T155009
CREATED:20231026T214714Z
LAST-MODIFIED:20240617T023701Z
UID:10001619-1718409600-1718495999@ncnca.org
SUMMARY:ARVT Pescadero Road Race - 2024 NCNCA District Championship & Premier Series
DESCRIPTION:Pesky 2024 Flyer V3 0529.pptx
URL:https://ncnca.org/event/arvt-pescadero-road-race/
LOCATION:Pescadero Road Race\, 350 Butano Cut-Off\, Pescadero\, CA\, 94060\, United States
CATEGORIES:Championships,Road,Road Race,Women
ATTACH;FMTTYPE=image/jpeg:https://ncnca.org/wp-content/uploads/2024/03/image0-2-e1710262755136.jpeg
GEO:37.2479536;-122.3646592
X-APPLE-STRUCTURED-LOCATION;VALUE=URI;X-ADDRESS=Pescadero Road Race 350 Butano Cut-Off Pescadero CA 94060 United States;X-APPLE-RADIUS=500;X-TITLE=350 Butano Cut-Off:geo:-122.3646592,37.2479536
END:VEVENT
BEGIN:VEVENT
DTSTART;VALUE=DATE:20240630
DTEND;VALUE=DATE:20240701
DTSTAMP:20260420T155009
CREATED:20231026T214939Z
LAST-MODIFIED:20240628T164703Z
UID:10001621-1719705600-1719791999@ncnca.org
SUMMARY:Leesville Gap Road Race
DESCRIPTION:
URL:https://ncnca.org/event/leesville-gap-road-race-3/
LOCATION:Williams\, CA\, Williams\, CA\, United States
CATEGORIES:Road,Road Race
END:VEVENT
BEGIN:VEVENT
DTSTART;VALUE=DATE:20240804
DTEND;VALUE=DATE:20240805
DTSTAMP:20260420T155009
CREATED:20231026T220114Z
LAST-MODIFIED:20240805T165009Z
UID:10001626-1722729600-1722815999@ncnca.org
SUMMARY:Patterson Pass Road Race
DESCRIPTION:
URL:https://ncnca.org/event/patterson-pass-road-race-3/
LOCATION:Patterson Pass Road Race\, Midway Rd & Patterson Pass Rd\, Tracy\, CA\, 95391\, United States
CATEGORIES:Road,Road Race
GEO:37.7149019;-121.5588433
X-APPLE-STRUCTURED-LOCATION;VALUE=URI;X-ADDRESS=Patterson Pass Road Race Midway Rd & Patterson Pass Rd Tracy CA 95391 United States;X-APPLE-RADIUS=500;X-TITLE=Midway Rd & Patterson Pass Rd:geo:-121.5588433,37.7149019
END:VEVENT
BEGIN:VEVENT
DTSTART;VALUE=DATE:20240810
DTEND;VALUE=DATE:20240811
DTSTAMP:20260420T155009
CREATED:20231026T220211Z
LAST-MODIFIED:20240712T012402Z
UID:10001627-1723248000-1723334399@ncnca.org
SUMMARY:Dunnigan Hills Road Race - 2024 NCNCA Premier Series
DESCRIPTION:
URL:https://ncnca.org/event/dunnigan-hills-road-race-3/
LOCATION:Dunnigan Hills\, 4040 Road 89\, Dunnigan\, CA\, 95937\, United States
CATEGORIES:Road,Road Race
GEO:38.8812001;-121.9713598
X-APPLE-STRUCTURED-LOCATION;VALUE=URI;X-ADDRESS=Dunnigan Hills 4040 Road 89 Dunnigan CA 95937 United States;X-APPLE-RADIUS=500;X-TITLE=4040 Road 89:geo:-121.9713598,38.8812001
END:VEVENT
BEGIN:VEVENT
DTSTART;VALUE=DATE:20240817
DTEND;VALUE=DATE:20240818
DTSTAMP:20260420T155009
CREATED:20231026T220549Z
LAST-MODIFIED:20240819T160835Z
UID:10001629-1723852800-1723939199@ncnca.org
SUMMARY:San Ardo Road Race - 2024 NCNCA District Championship
DESCRIPTION:San Ardo Road Race will be the 2024 NCNCA Junior Road Race Championship for the following ages: \nMen & Women (picked separately) \n\n9-10\n11-12\n13-14\n15-16\n17-18
URL:https://ncnca.org/event/san-ardo-road-race-4/
LOCATION:San Ardo Road Race\, 62428 Center St\, San Ardo\, CA\, 93450\, United States
CATEGORIES:Championships,Juniors,Road,Road Race
GEO:36.0202064;-120.9051299
X-APPLE-STRUCTURED-LOCATION;VALUE=URI;X-ADDRESS=San Ardo Road Race 62428 Center St San Ardo CA 93450 United States;X-APPLE-RADIUS=500;X-TITLE=62428 Center St:geo:-120.9051299,36.0202064
END:VEVENT
BEGIN:VEVENT
DTSTART;VALUE=DATE:20240818
DTEND;VALUE=DATE:20240819
DTSTAMP:20260420T155009
CREATED:20231026T220655Z
LAST-MODIFIED:20240819T160853Z
UID:10001630-1723939200-1724025599@ncnca.org
SUMMARY:University Road Race
DESCRIPTION:
URL:https://ncnca.org/event/university-road-race-3/
LOCATION:UC Santa Cruz\, E Field Service Rd\, Santa Cruz\, CA\, 95064\, United States
CATEGORIES:Road,Road Race,Women
GEO:36.9945441;-122.0536091
X-APPLE-STRUCTURED-LOCATION;VALUE=URI;X-ADDRESS=UC Santa Cruz E Field Service Rd Santa Cruz CA 95064 United States;X-APPLE-RADIUS=500;X-TITLE=E Field Service Rd:geo:-122.0536091,36.9945441
END:VEVENT
BEGIN:VEVENT
DTSTART;VALUE=DATE:20240825
DTEND;VALUE=DATE:20240826
DTSTAMP:20260420T155009
CREATED:20231026T220753Z
LAST-MODIFIED:20240826T033224Z
UID:10001631-1724544000-1724630399@ncnca.org
SUMMARY:Winters Road Race
DESCRIPTION:An Event of the 2024 California Cup \nVolunteers are needed!! Email or call Velo Promo. \nCourse: A 24 mile loop open road race course\, the same as since 2009-2019). Start is a promenade out of Winters ½\nmile onto the loop. Loop: South on Winters Road\, west on Allendale\, south on Timm\, west on Cantelow\, north on\nPleasants Valley\, east on Putah Creek Road\, and then south again on Winters Road.. There is a 1000’ gravel stretch\nafter the Feed Zone uphill on Cantelow. The last ½ mile of Cantelow is a steep twisty decent; use caution!! There is\nongoing PG&E construction on Pleasants Valley\, including steel plates and potholes. All of the roads are narrow; if\nyou can’t stay to the right of the centerline\, stay home. The finish line is the same as 2014-2019\, on Putah Creek just\npast the canal\, west of the old (2013 and prior) finish
URL:https://ncnca.org/event/winters-road-race-2/
LOCATION:Winters Road Race\, Railroad Ave & Main St\, Winters\, CA\, 95694\, United States
CATEGORIES:Juniors,Road,Road Race
ATTACH;FMTTYPE=image/jpeg:https://ncnca.org/wp-content/uploads/2023/10/DSCN2748-scaled-e1724099026935.jpg
GEO:38.521848;-121.9688703
X-APPLE-STRUCTURED-LOCATION;VALUE=URI;X-ADDRESS=Winters Road Race Railroad Ave & Main St Winters CA 95694 United States;X-APPLE-RADIUS=500;X-TITLE=Railroad Ave & Main St:geo:-121.9688703,38.521848
END:VEVENT
BEGIN:VEVENT
DTSTART;VALUE=DATE:20240921
DTEND;VALUE=DATE:20240922
DTSTAMP:20260420T155009
CREATED:20231026T221139Z
LAST-MODIFIED:20240910T184400Z
UID:10001635-1726876800-1726963199@ncnca.org
SUMMARY:Henleyville Road Race
DESCRIPTION:Course: This is the same flat 18-mile loop course as 1999\, 2007-2023 with the same new uphill (off-loop) finish area as last eight years. Starting at Registration site\, it heads west on Simpson\, north on Paskenta Road\, then east on Gyle Road\, south on Rawson\, and then west on Simpson back through the start area. Finish is on Freeman Schoolhouse Road just south of Simpson\, a short uphill finish. Pavement is mostly good\, with some potholes on Simpson. Two hills: one on Paskenta (the feed hill) and the finish hill. Please riders\, use the facilities and stay off of private property!! No gas\, services or phones available in Henleyville. All services are available in Corning.
URL:https://ncnca.org/event/henleyville-road-race-3/
LOCATION:Henleyville\, 20351 Simpson Road\, Corning\, CA\, United States
CATEGORIES:Road,Road Race
GEO:39.9578045;-122.2751621
X-APPLE-STRUCTURED-LOCATION;VALUE=URI;X-ADDRESS=Henleyville 20351 Simpson Road Corning CA United States;X-APPLE-RADIUS=500;X-TITLE=20351 Simpson Road:geo:-122.2751621,39.9578045
END:VEVENT
END:VCALENDAR