BEGIN:VCALENDAR
VERSION:2.0
PRODID:-// - ECPv6.15.17.1//NONSGML v1.0//EN
CALSCALE:GREGORIAN
METHOD:PUBLISH
X-ORIGINAL-URL:https://ncnca.org
X-WR-CALDESC:Events for 
REFRESH-INTERVAL;VALUE=DURATION:PT1H
X-Robots-Tag:noindex
X-PUBLISHED-TTL:PT1H
BEGIN:VTIMEZONE
TZID:America/Los_Angeles
BEGIN:DAYLIGHT
TZOFFSETFROM:-0800
TZOFFSETTO:-0700
TZNAME:PDT
DTSTART:20200308T100000
END:DAYLIGHT
BEGIN:STANDARD
TZOFFSETFROM:-0700
TZOFFSETTO:-0800
TZNAME:PST
DTSTART:20201101T090000
END:STANDARD
BEGIN:DAYLIGHT
TZOFFSETFROM:-0800
TZOFFSETTO:-0700
TZNAME:PDT
DTSTART:20210314T100000
END:DAYLIGHT
BEGIN:STANDARD
TZOFFSETFROM:-0700
TZOFFSETTO:-0800
TZNAME:PST
DTSTART:20211107T090000
END:STANDARD
BEGIN:DAYLIGHT
TZOFFSETFROM:-0800
TZOFFSETTO:-0700
TZNAME:PDT
DTSTART:20220313T100000
END:DAYLIGHT
BEGIN:STANDARD
TZOFFSETFROM:-0700
TZOFFSETTO:-0800
TZNAME:PST
DTSTART:20221106T090000
END:STANDARD
BEGIN:DAYLIGHT
TZOFFSETFROM:-0800
TZOFFSETTO:-0700
TZNAME:PDT
DTSTART:20230312T100000
END:DAYLIGHT
BEGIN:STANDARD
TZOFFSETFROM:-0700
TZOFFSETTO:-0800
TZNAME:PST
DTSTART:20231105T090000
END:STANDARD
END:VTIMEZONE
BEGIN:VEVENT
DTSTART;VALUE=DATE:20220504
DTEND;VALUE=DATE:20220505
DTSTAMP:20260420T120214
CREATED:20220601T211444Z
LAST-MODIFIED:20220601T211444Z
UID:10001438-1651622400-1651708799@ncnca.org
SUMMARY:Wednesday Night Track Racing
DESCRIPTION:For the full calendar of training sessions and races at the Velodrome\, please see the Velodrome calendar:hellyervelodrome.com/calendar
URL:https://ncnca.org/event/wednesday-night-track-racing/2022-05-04/
LOCATION:Hellyer Park and Velodrome\, 995 Hellyer Ave\, San Jose\, CA\, 95111\, United States
CATEGORIES:Track
GEO:37.287556;-121.812967
X-APPLE-STRUCTURED-LOCATION;VALUE=URI;X-ADDRESS=Hellyer Park and Velodrome 995 Hellyer Ave San Jose CA 95111 United States;X-APPLE-RADIUS=500;X-TITLE=995 Hellyer Ave:geo:-121.812967,37.287556
END:VEVENT
BEGIN:VEVENT
DTSTART;VALUE=DATE:20220427
DTEND;VALUE=DATE:20220428
DTSTAMP:20260420T120214
CREATED:20220601T211444Z
LAST-MODIFIED:20220601T211444Z
UID:10001437-1651017600-1651103999@ncnca.org
SUMMARY:Wednesday Night Track Racing
DESCRIPTION:For the full calendar of training sessions and races at the Velodrome\, please see the Velodrome calendar:hellyervelodrome.com/calendar
URL:https://ncnca.org/event/wednesday-night-track-racing/2022-04-27/
LOCATION:Hellyer Park and Velodrome\, 995 Hellyer Ave\, San Jose\, CA\, 95111\, United States
CATEGORIES:Track
GEO:37.287556;-121.812967
X-APPLE-STRUCTURED-LOCATION;VALUE=URI;X-ADDRESS=Hellyer Park and Velodrome 995 Hellyer Ave San Jose CA 95111 United States;X-APPLE-RADIUS=500;X-TITLE=995 Hellyer Ave:geo:-121.812967,37.287556
END:VEVENT
BEGIN:VEVENT
DTSTART;VALUE=DATE:20220420
DTEND;VALUE=DATE:20220421
DTSTAMP:20260420T120214
CREATED:20220601T211444Z
LAST-MODIFIED:20220601T211444Z
UID:10001436-1650412800-1650499199@ncnca.org
SUMMARY:Wednesday Night Track Racing
DESCRIPTION:For the full calendar of training sessions and races at the Velodrome\, please see the Velodrome calendar:hellyervelodrome.com/calendar
URL:https://ncnca.org/event/wednesday-night-track-racing/2022-04-20/
LOCATION:Hellyer Park and Velodrome\, 995 Hellyer Ave\, San Jose\, CA\, 95111\, United States
CATEGORIES:Track
GEO:37.287556;-121.812967
X-APPLE-STRUCTURED-LOCATION;VALUE=URI;X-ADDRESS=Hellyer Park and Velodrome 995 Hellyer Ave San Jose CA 95111 United States;X-APPLE-RADIUS=500;X-TITLE=995 Hellyer Ave:geo:-121.812967,37.287556
END:VEVENT
BEGIN:VEVENT
DTSTART;VALUE=DATE:20220413
DTEND;VALUE=DATE:20220414
DTSTAMP:20260420T120214
CREATED:20220601T211444Z
LAST-MODIFIED:20220601T211444Z
UID:10001435-1649808000-1649894399@ncnca.org
SUMMARY:Wednesday Night Track Racing
DESCRIPTION:For the full calendar of training sessions and races at the Velodrome\, please see the Velodrome calendar:hellyervelodrome.com/calendar
URL:https://ncnca.org/event/wednesday-night-track-racing/2022-04-13/
LOCATION:Hellyer Park and Velodrome\, 995 Hellyer Ave\, San Jose\, CA\, 95111\, United States
CATEGORIES:Track
GEO:37.287556;-121.812967
X-APPLE-STRUCTURED-LOCATION;VALUE=URI;X-ADDRESS=Hellyer Park and Velodrome 995 Hellyer Ave San Jose CA 95111 United States;X-APPLE-RADIUS=500;X-TITLE=995 Hellyer Ave:geo:-121.812967,37.287556
END:VEVENT
BEGIN:VEVENT
DTSTART;TZID=America/Los_Angeles:20210307T090000
DTEND;TZID=America/Los_Angeles:20210307T120000
DTSTAMP:20260420T120214
CREATED:20210219T054328Z
LAST-MODIFIED:20210219T055118Z
UID:10001288-1615107600-1615118400@ncnca.org
SUMMARY:E-Racing Series
DESCRIPTION:Full details about the NCNCA Intro E-Racing Series (pdf)
URL:https://ncnca.org/event/e-racing-series/2021-03-07/
LOCATION:Online\, CA\, United States
CATEGORIES:Cyclocross,Juniors,Road,Track,Women
GEO:36.778261;-119.4179324
END:VEVENT
BEGIN:VEVENT
DTSTART;TZID=America/Los_Angeles:20210228T090000
DTEND;TZID=America/Los_Angeles:20210228T120000
DTSTAMP:20260420T120214
CREATED:20210219T054328Z
LAST-MODIFIED:20210219T055118Z
UID:10001287-1614502800-1614513600@ncnca.org
SUMMARY:E-Racing Series
DESCRIPTION:Full details about the NCNCA Intro E-Racing Series (pdf)
URL:https://ncnca.org/event/e-racing-series/2021-02-28/
LOCATION:Online\, CA\, United States
CATEGORIES:Cyclocross,Juniors,Road,Track,Women
GEO:36.778261;-119.4179324
END:VEVENT
BEGIN:VEVENT
DTSTART;TZID=America/Los_Angeles:20210221T090000
DTEND;TZID=America/Los_Angeles:20210221T120000
DTSTAMP:20260420T120214
CREATED:20210219T054328Z
LAST-MODIFIED:20210219T055118Z
UID:10001286-1613898000-1613908800@ncnca.org
SUMMARY:E-Racing Series
DESCRIPTION:Full details about the NCNCA Intro E-Racing Series (pdf)
URL:https://ncnca.org/event/e-racing-series/2021-02-21/
LOCATION:Online\, CA\, United States
CATEGORIES:Cyclocross,Juniors,Road,Track,Women
GEO:36.778261;-119.4179324
END:VEVENT
END:VCALENDAR