BEGIN:VCALENDAR
VERSION:2.0
PRODID:-// - ECPv6.15.17.1//NONSGML v1.0//EN
CALSCALE:GREGORIAN
METHOD:PUBLISH
X-ORIGINAL-URL:https://ncnca.org
X-WR-CALDESC:Events for 
REFRESH-INTERVAL;VALUE=DURATION:PT1H
X-Robots-Tag:noindex
X-PUBLISHED-TTL:PT1H
BEGIN:VTIMEZONE
TZID:America/Los_Angeles
BEGIN:DAYLIGHT
TZOFFSETFROM:-0800
TZOFFSETTO:-0700
TZNAME:PDT
DTSTART:20210314T100000
END:DAYLIGHT
BEGIN:STANDARD
TZOFFSETFROM:-0700
TZOFFSETTO:-0800
TZNAME:PST
DTSTART:20211107T090000
END:STANDARD
BEGIN:DAYLIGHT
TZOFFSETFROM:-0800
TZOFFSETTO:-0700
TZNAME:PDT
DTSTART:20220313T100000
END:DAYLIGHT
BEGIN:STANDARD
TZOFFSETFROM:-0700
TZOFFSETTO:-0800
TZNAME:PST
DTSTART:20221106T090000
END:STANDARD
BEGIN:DAYLIGHT
TZOFFSETFROM:-0800
TZOFFSETTO:-0700
TZNAME:PDT
DTSTART:20230312T100000
END:DAYLIGHT
BEGIN:STANDARD
TZOFFSETFROM:-0700
TZOFFSETTO:-0800
TZNAME:PST
DTSTART:20231105T090000
END:STANDARD
END:VTIMEZONE
BEGIN:VEVENT
DTSTART;VALUE=DATE:20220501
DTEND;VALUE=DATE:20220502
DTSTAMP:20260421T134451
CREATED:20211215T032243Z
LAST-MODIFIED:20220421T231058Z
UID:10001392-1651363200-1651449599@ncnca.org
SUMMARY:Golden State Race Series - Circuit Race (Day 2)
DESCRIPTION:
URL:https://ncnca.org/event/golden-state-race-series-circuit-race-day-2/
LOCATION:Golden State Race Series\, 11000 Cobblerock Drive\, Rancho Cordova\, CA\, United States
CATEGORIES:Circuit Race,Road
GEO:38.5933341;-121.276664
X-APPLE-STRUCTURED-LOCATION;VALUE=URI;X-ADDRESS=Golden State Race Series 11000 Cobblerock Drive Rancho Cordova CA United States;X-APPLE-RADIUS=500;X-TITLE=11000 Cobblerock Drive:geo:-121.276664,38.5933341
END:VEVENT
BEGIN:VEVENT
DTSTART;VALUE=DATE:20220503
DTEND;VALUE=DATE:20220504
DTSTAMP:20260421T134451
CREATED:20220405T215950Z
LAST-MODIFIED:20220601T211738Z
UID:10001421-1651536000-1651622399@ncnca.org
SUMMARY:Tuesday Night Twilights
DESCRIPTION:Additional information at: bikemonkey.net/tnt
URL:https://ncnca.org/event/tuesday-night-twilights-2/2022-05-03/
LOCATION:Santa Rosa Fairgrounds\, 1350 Bennett Valley Rd\, Santa Rosa\, CA\, 95404\, United States
CATEGORIES:Criterium,Road
GEO:38.429419;-122.7005086
X-APPLE-STRUCTURED-LOCATION;VALUE=URI;X-ADDRESS=Santa Rosa Fairgrounds 1350 Bennett Valley Rd Santa Rosa CA 95404 United States;X-APPLE-RADIUS=500;X-TITLE=1350 Bennett Valley Rd:geo:-122.7005086,38.429419
END:VEVENT
BEGIN:VEVENT
DTSTART;VALUE=DATE:20220504
DTEND;VALUE=DATE:20220505
DTSTAMP:20260421T134451
CREATED:20220601T211444Z
LAST-MODIFIED:20220601T211444Z
UID:10001438-1651622400-1651708799@ncnca.org
SUMMARY:Wednesday Night Track Racing
DESCRIPTION:For the full calendar of training sessions and races at the Velodrome\, please see the Velodrome calendar:hellyervelodrome.com/calendar
URL:https://ncnca.org/event/wednesday-night-track-racing/2022-05-04/
LOCATION:Hellyer Park and Velodrome\, 995 Hellyer Ave\, San Jose\, CA\, 95111\, United States
CATEGORIES:Track
GEO:37.287556;-121.812967
X-APPLE-STRUCTURED-LOCATION;VALUE=URI;X-ADDRESS=Hellyer Park and Velodrome 995 Hellyer Ave San Jose CA 95111 United States;X-APPLE-RADIUS=500;X-TITLE=995 Hellyer Ave:geo:-121.812967,37.287556
END:VEVENT
BEGIN:VEVENT
DTSTART;VALUE=DATE:20220507
DTEND;VALUE=DATE:20220508
DTSTAMP:20260421T134451
CREATED:20211215T032243Z
LAST-MODIFIED:20220308T034607Z
UID:10001390-1651881600-1651967999@ncnca.org
SUMMARY:Winchester Circuit Race
DESCRIPTION:
URL:https://ncnca.org/event/winchester-circuit-race-3/
LOCATION:Winchester Circuit Race\, 1100 Sugar Pine Rd\, Meadow Vista\, CA\, 95722\, United States
CATEGORIES:Circuit Race,Road
GEO:38.98288;-121.02619
X-APPLE-STRUCTURED-LOCATION;VALUE=URI;X-ADDRESS=Winchester Circuit Race 1100 Sugar Pine Rd Meadow Vista CA 95722 United States;X-APPLE-RADIUS=500;X-TITLE=1100 Sugar Pine Rd:geo:-121.02619,38.98288
END:VEVENT
BEGIN:VEVENT
DTSTART;VALUE=DATE:20220508
DTEND;VALUE=DATE:20220509
DTSTAMP:20260421T134451
CREATED:20220427T174252Z
LAST-MODIFIED:20220427T174252Z
UID:10001428-1651968000-1652054399@ncnca.org
SUMMARY:California Dirt MTB Series #1
DESCRIPTION:
URL:https://ncnca.org/event/california-dirt-mtb-series-1/
LOCATION:Nevada City\, Nevada City\, CA\, United States
CATEGORIES:MTB
GEO:39.2615606;-121.0160594
END:VEVENT
BEGIN:VEVENT
DTSTART;VALUE=DATE:20220511
DTEND;VALUE=DATE:20220512
DTSTAMP:20260421T134451
CREATED:20220601T211444Z
LAST-MODIFIED:20220601T211444Z
UID:10001439-1652227200-1652313599@ncnca.org
SUMMARY:Wednesday Night Track Racing
DESCRIPTION:For the full calendar of training sessions and races at the Velodrome\, please see the Velodrome calendar:hellyervelodrome.com/calendar
URL:https://ncnca.org/event/wednesday-night-track-racing/2022-05-11/
LOCATION:Hellyer Park and Velodrome\, 995 Hellyer Ave\, San Jose\, CA\, 95111\, United States
CATEGORIES:Track
GEO:37.287556;-121.812967
X-APPLE-STRUCTURED-LOCATION;VALUE=URI;X-ADDRESS=Hellyer Park and Velodrome 995 Hellyer Ave San Jose CA 95111 United States;X-APPLE-RADIUS=500;X-TITLE=995 Hellyer Ave:geo:-121.812967,37.287556
END:VEVENT
BEGIN:VEVENT
DTSTART;VALUE=DATE:20220515
DTEND;VALUE=DATE:20220516
DTSTAMP:20260421T134451
CREATED:20220405T221100Z
LAST-MODIFIED:20220405T221100Z
UID:10001427-1652572800-1652659199@ncnca.org
SUMMARY:Auburn Downtown Criterium
DESCRIPTION:
URL:https://ncnca.org/event/auburn-downtown-criterium-2/
LOCATION:Auburn Classic Downtown Criterium\, 835 Lincoln Way\, Auburn\, CA\, 95603\, United States
CATEGORIES:Criterium,Road
GEO:38.9001105;-121.068303
X-APPLE-STRUCTURED-LOCATION;VALUE=URI;X-ADDRESS=Auburn Classic Downtown Criterium 835 Lincoln Way Auburn CA 95603 United States;X-APPLE-RADIUS=500;X-TITLE=835 Lincoln Way:geo:-121.068303,38.9001105
END:VEVENT
BEGIN:VEVENT
DTSTART;VALUE=DATE:20220515
DTEND;VALUE=DATE:20220516
DTSTAMP:20260421T134451
CREATED:20211215T032243Z
LAST-MODIFIED:20211215T032243Z
UID:10001394-1652572800-1652659199@ncnca.org
SUMMARY:Sky Express Criterium Galt
DESCRIPTION:
URL:https://ncnca.org/event/sky-express-criterium-galt/
LOCATION:Galt\, CA\, Galt\, CA\, United States
CATEGORIES:Criterium,Road
END:VEVENT
BEGIN:VEVENT
DTSTART;VALUE=DATE:20220517
DTEND;VALUE=DATE:20220518
DTSTAMP:20260421T134451
CREATED:20220405T215950Z
LAST-MODIFIED:20220601T211738Z
UID:10001422-1652745600-1652831999@ncnca.org
SUMMARY:Tuesday Night Twilights
DESCRIPTION:Additional information at: bikemonkey.net/tnt
URL:https://ncnca.org/event/tuesday-night-twilights-2/2022-05-17/
LOCATION:Santa Rosa Fairgrounds\, 1350 Bennett Valley Rd\, Santa Rosa\, CA\, 95404\, United States
CATEGORIES:Criterium,Road
GEO:38.429419;-122.7005086
X-APPLE-STRUCTURED-LOCATION;VALUE=URI;X-ADDRESS=Santa Rosa Fairgrounds 1350 Bennett Valley Rd Santa Rosa CA 95404 United States;X-APPLE-RADIUS=500;X-TITLE=1350 Bennett Valley Rd:geo:-122.7005086,38.429419
END:VEVENT
BEGIN:VEVENT
DTSTART;VALUE=DATE:20220518
DTEND;VALUE=DATE:20220519
DTSTAMP:20260421T134451
CREATED:20220601T211444Z
LAST-MODIFIED:20220601T211444Z
UID:10001440-1652832000-1652918399@ncnca.org
SUMMARY:Wednesday Night Track Racing
DESCRIPTION:For the full calendar of training sessions and races at the Velodrome\, please see the Velodrome calendar:hellyervelodrome.com/calendar
URL:https://ncnca.org/event/wednesday-night-track-racing/2022-05-18/
LOCATION:Hellyer Park and Velodrome\, 995 Hellyer Ave\, San Jose\, CA\, 95111\, United States
CATEGORIES:Track
GEO:37.287556;-121.812967
X-APPLE-STRUCTURED-LOCATION;VALUE=URI;X-ADDRESS=Hellyer Park and Velodrome 995 Hellyer Ave San Jose CA 95111 United States;X-APPLE-RADIUS=500;X-TITLE=995 Hellyer Ave:geo:-121.812967,37.287556
END:VEVENT
BEGIN:VEVENT
DTSTART;VALUE=DATE:20220525
DTEND;VALUE=DATE:20220526
DTSTAMP:20260421T134451
CREATED:20220601T211444Z
LAST-MODIFIED:20220601T211444Z
UID:10001441-1653436800-1653523199@ncnca.org
SUMMARY:Wednesday Night Track Racing
DESCRIPTION:For the full calendar of training sessions and races at the Velodrome\, please see the Velodrome calendar:hellyervelodrome.com/calendar
URL:https://ncnca.org/event/wednesday-night-track-racing/2022-05-25/
LOCATION:Hellyer Park and Velodrome\, 995 Hellyer Ave\, San Jose\, CA\, 95111\, United States
CATEGORIES:Track
GEO:37.287556;-121.812967
X-APPLE-STRUCTURED-LOCATION;VALUE=URI;X-ADDRESS=Hellyer Park and Velodrome 995 Hellyer Ave San Jose CA 95111 United States;X-APPLE-RADIUS=500;X-TITLE=995 Hellyer Ave:geo:-121.812967,37.287556
END:VEVENT
BEGIN:VEVENT
DTSTART;VALUE=DATE:20220528
DTEND;VALUE=DATE:20220529
DTSTAMP:20260421T134451
CREATED:20220427T174405Z
LAST-MODIFIED:20220427T174405Z
UID:10001429-1653696000-1653782399@ncnca.org
SUMMARY:California Dirt MTB Series #2
DESCRIPTION:
URL:https://ncnca.org/event/california-dirt-mtb-series-2-2/
LOCATION:Susanville\, CA\, 489-485 Cherry Terrace\, Susanville\, CA\, 96130\, United States
CATEGORIES:MTB
GEO:36.778261;-119.4179324
X-APPLE-STRUCTURED-LOCATION;VALUE=URI;X-ADDRESS=Susanville CA 489-485 Cherry Terrace Susanville CA 96130 United States;X-APPLE-RADIUS=500;X-TITLE=489-485 Cherry Terrace:geo:-119.4179324,36.778261
END:VEVENT
BEGIN:VEVENT
DTSTART;VALUE=DATE:20220528
DTEND;VALUE=DATE:20220529
DTSTAMP:20260421T134451
CREATED:20211215T032223Z
LAST-MODIFIED:20220526T195441Z
UID:10001366-1653696000-1653782399@ncnca.org
SUMMARY:Folsom Classic Criterium
DESCRIPTION:
URL:https://ncnca.org/event/folsom-classic-criterium/
LOCATION:Folsom\, CA\, Folsom\, CA\, United States
CATEGORIES:Criterium,Road
END:VEVENT
BEGIN:VEVENT
DTSTART;VALUE=DATE:20220531
DTEND;VALUE=DATE:20220601
DTSTAMP:20260421T134451
CREATED:20220405T215950Z
LAST-MODIFIED:20220601T211738Z
UID:10001423-1653955200-1654041599@ncnca.org
SUMMARY:Tuesday Night Twilights
DESCRIPTION:Additional information at: bikemonkey.net/tnt
URL:https://ncnca.org/event/tuesday-night-twilights-2/2022-05-31/
LOCATION:Santa Rosa Fairgrounds\, 1350 Bennett Valley Rd\, Santa Rosa\, CA\, 95404\, United States
CATEGORIES:Criterium,Road
GEO:38.429419;-122.7005086
X-APPLE-STRUCTURED-LOCATION;VALUE=URI;X-ADDRESS=Santa Rosa Fairgrounds 1350 Bennett Valley Rd Santa Rosa CA 95404 United States;X-APPLE-RADIUS=500;X-TITLE=1350 Bennett Valley Rd:geo:-122.7005086,38.429419
END:VEVENT
BEGIN:VEVENT
DTSTART;VALUE=DATE:20220601
DTEND;VALUE=DATE:20220602
DTSTAMP:20260421T134451
CREATED:20220601T211444Z
LAST-MODIFIED:20220601T211444Z
UID:10001442-1654041600-1654127999@ncnca.org
SUMMARY:Wednesday Night Track Racing
DESCRIPTION:For the full calendar of training sessions and races at the Velodrome\, please see the Velodrome calendar:hellyervelodrome.com/calendar
URL:https://ncnca.org/event/wednesday-night-track-racing/2022-06-01/
LOCATION:Hellyer Park and Velodrome\, 995 Hellyer Ave\, San Jose\, CA\, 95111\, United States
CATEGORIES:Track
GEO:37.287556;-121.812967
X-APPLE-STRUCTURED-LOCATION;VALUE=URI;X-ADDRESS=Hellyer Park and Velodrome 995 Hellyer Ave San Jose CA 95111 United States;X-APPLE-RADIUS=500;X-TITLE=995 Hellyer Ave:geo:-121.812967,37.287556
END:VEVENT
BEGIN:VEVENT
DTSTART;VALUE=DATE:20220604
DTEND;VALUE=DATE:20220605
DTSTAMP:20260421T134451
CREATED:20220506T191449Z
LAST-MODIFIED:20220526T195658Z
UID:10001431-1654300800-1654387199@ncnca.org
SUMMARY:NCNCA Junior Track Championships
DESCRIPTION:
URL:https://ncnca.org/event/ncnca-junior-track-championships/
LOCATION:Hellyer Park and Velodrome\, 995 Hellyer Ave\, San Jose\, CA\, 95111\, United States
CATEGORIES:Championships,Juniors,Track
GEO:37.287556;-121.812967
X-APPLE-STRUCTURED-LOCATION;VALUE=URI;X-ADDRESS=Hellyer Park and Velodrome 995 Hellyer Ave San Jose CA 95111 United States;X-APPLE-RADIUS=500;X-TITLE=995 Hellyer Ave:geo:-121.812967,37.287556
END:VEVENT
BEGIN:VEVENT
DTSTART;VALUE=DATE:20220604
DTEND;VALUE=DATE:20220605
DTSTAMP:20260421T134451
CREATED:20211215T032223Z
LAST-MODIFIED:20220526T195622Z
UID:10001368-1654300800-1654387199@ncnca.org
SUMMARY:Dash for Cash
DESCRIPTION:
URL:https://ncnca.org/event/dash-for-cash/
LOCATION:Dash for Cash\, Johnson Dr & Franklin Dr\, Pleasanton\, CA\, 94588\, United States
CATEGORIES:Criterium,Road
GEO:37.6956534;-121.9060819
X-APPLE-STRUCTURED-LOCATION;VALUE=URI;X-ADDRESS=Dash for Cash Johnson Dr & Franklin Dr Pleasanton CA 94588 United States;X-APPLE-RADIUS=500;X-TITLE=Johnson Dr & Franklin Dr:geo:-121.9060819,37.6956534
END:VEVENT
BEGIN:VEVENT
DTSTART;VALUE=DATE:20220605
DTEND;VALUE=DATE:20220606
DTSTAMP:20260421T134451
CREATED:20211215T032223Z
LAST-MODIFIED:20220526T195726Z
UID:10001369-1654387200-1654473599@ncnca.org
SUMMARY:Regalado Road Race
DESCRIPTION:
URL:https://ncnca.org/event/regalado-road-race-2/
LOCATION:Regalado Road Race\, 12000 California 120\, Oakdale\, CA\, 95361\, United States
CATEGORIES:Road,Road Race
GEO:37.7732765;-120.7738069
X-APPLE-STRUCTURED-LOCATION;VALUE=URI;X-ADDRESS=Regalado Road Race 12000 California 120 Oakdale CA 95361 United States;X-APPLE-RADIUS=500;X-TITLE=12000 California 120:geo:-120.7738069,37.7732765
END:VEVENT
BEGIN:VEVENT
DTSTART;VALUE=DATE:20220608
DTEND;VALUE=DATE:20220609
DTSTAMP:20260421T134451
CREATED:20220601T211444Z
LAST-MODIFIED:20220601T211444Z
UID:10001443-1654646400-1654732799@ncnca.org
SUMMARY:Wednesday Night Track Racing
DESCRIPTION:For the full calendar of training sessions and races at the Velodrome\, please see the Velodrome calendar:hellyervelodrome.com/calendar
URL:https://ncnca.org/event/wednesday-night-track-racing/2022-06-08/
LOCATION:Hellyer Park and Velodrome\, 995 Hellyer Ave\, San Jose\, CA\, 95111\, United States
CATEGORIES:Track
GEO:37.287556;-121.812967
X-APPLE-STRUCTURED-LOCATION;VALUE=URI;X-ADDRESS=Hellyer Park and Velodrome 995 Hellyer Ave San Jose CA 95111 United States;X-APPLE-RADIUS=500;X-TITLE=995 Hellyer Ave:geo:-121.812967,37.287556
END:VEVENT
BEGIN:VEVENT
DTSTART;VALUE=DATE:20220615
DTEND;VALUE=DATE:20220616
DTSTAMP:20260421T134451
CREATED:20220601T211444Z
LAST-MODIFIED:20220601T211444Z
UID:10001444-1655251200-1655337599@ncnca.org
SUMMARY:Wednesday Night Track Racing
DESCRIPTION:For the full calendar of training sessions and races at the Velodrome\, please see the Velodrome calendar:hellyervelodrome.com/calendar
URL:https://ncnca.org/event/wednesday-night-track-racing/2022-06-15/
LOCATION:Hellyer Park and Velodrome\, 995 Hellyer Ave\, San Jose\, CA\, 95111\, United States
CATEGORIES:Track
GEO:37.287556;-121.812967
X-APPLE-STRUCTURED-LOCATION;VALUE=URI;X-ADDRESS=Hellyer Park and Velodrome 995 Hellyer Ave San Jose CA 95111 United States;X-APPLE-RADIUS=500;X-TITLE=995 Hellyer Ave:geo:-121.812967,37.287556
END:VEVENT
BEGIN:VEVENT
DTSTART;VALUE=DATE:20220618
DTEND;VALUE=DATE:20220619
DTSTAMP:20260421T134451
CREATED:20220301T050102Z
LAST-MODIFIED:20220601T214341Z
UID:10001418-1655510400-1655596799@ncnca.org
SUMMARY:Pescadero Coastal Classic
DESCRIPTION:
URL:https://ncnca.org/event/pescadero-coastal-classic/
LOCATION:Pescadero Road Race\, 350 Butano Cut-Off\, Pescadero\, CA\, 94060\, United States
CATEGORIES:Road,Road Race
GEO:37.2479536;-122.3646592
X-APPLE-STRUCTURED-LOCATION;VALUE=URI;X-ADDRESS=Pescadero Road Race 350 Butano Cut-Off Pescadero CA 94060 United States;X-APPLE-RADIUS=500;X-TITLE=350 Butano Cut-Off:geo:-122.3646592,37.2479536
END:VEVENT
BEGIN:VEVENT
DTSTART;VALUE=DATE:20220622
DTEND;VALUE=DATE:20220623
DTSTAMP:20260421T134451
CREATED:20220601T211444Z
LAST-MODIFIED:20220601T211444Z
UID:10001445-1655856000-1655942399@ncnca.org
SUMMARY:Wednesday Night Track Racing
DESCRIPTION:For the full calendar of training sessions and races at the Velodrome\, please see the Velodrome calendar:hellyervelodrome.com/calendar
URL:https://ncnca.org/event/wednesday-night-track-racing/2022-06-22/
LOCATION:Hellyer Park and Velodrome\, 995 Hellyer Ave\, San Jose\, CA\, 95111\, United States
CATEGORIES:Track
GEO:37.287556;-121.812967
X-APPLE-STRUCTURED-LOCATION;VALUE=URI;X-ADDRESS=Hellyer Park and Velodrome 995 Hellyer Ave San Jose CA 95111 United States;X-APPLE-RADIUS=500;X-TITLE=995 Hellyer Ave:geo:-121.812967,37.287556
END:VEVENT
BEGIN:VEVENT
DTSTART;VALUE=DATE:20220626
DTEND;VALUE=DATE:20220627
DTSTAMP:20260421T134451
CREATED:20220501T023648Z
LAST-MODIFIED:20220501T023648Z
UID:10001430-1656201600-1656287999@ncnca.org
SUMMARY:California Dirt MTB Series #3
DESCRIPTION:
URL:https://ncnca.org/event/california-dirt-mtb-series-3-2/
LOCATION:Grass Valley\, Grass Valley\, CA\, 95945\, United States
CATEGORIES:MTB
GEO:39.2190608;-121.0610606
END:VEVENT
BEGIN:VEVENT
DTSTART;VALUE=DATE:20220629
DTEND;VALUE=DATE:20220630
DTSTAMP:20260421T134451
CREATED:20220601T211444Z
LAST-MODIFIED:20220601T211444Z
UID:10001446-1656460800-1656547199@ncnca.org
SUMMARY:Wednesday Night Track Racing
DESCRIPTION:For the full calendar of training sessions and races at the Velodrome\, please see the Velodrome calendar:hellyervelodrome.com/calendar
URL:https://ncnca.org/event/wednesday-night-track-racing/2022-06-29/
LOCATION:Hellyer Park and Velodrome\, 995 Hellyer Ave\, San Jose\, CA\, 95111\, United States
CATEGORIES:Track
GEO:37.287556;-121.812967
X-APPLE-STRUCTURED-LOCATION;VALUE=URI;X-ADDRESS=Hellyer Park and Velodrome 995 Hellyer Ave San Jose CA 95111 United States;X-APPLE-RADIUS=500;X-TITLE=995 Hellyer Ave:geo:-121.812967,37.287556
END:VEVENT
BEGIN:VEVENT
DTSTART;VALUE=DATE:20220703
DTEND;VALUE=DATE:20220704
DTSTAMP:20260421T134451
CREATED:20211215T032223Z
LAST-MODIFIED:20220614T220051Z
UID:10001370-1656806400-1656892799@ncnca.org
SUMMARY:Leesville Gap Road Race
DESCRIPTION:
URL:https://ncnca.org/event/leesville-gap-road-race/
LOCATION:Williams\, CA\, Williams\, CA\, United States
CATEGORIES:Road,Road Race
END:VEVENT
BEGIN:VEVENT
DTSTART;VALUE=DATE:20220706
DTEND;VALUE=DATE:20220707
DTSTAMP:20260421T134451
CREATED:20220601T211444Z
LAST-MODIFIED:20220601T211444Z
UID:10001447-1657065600-1657151999@ncnca.org
SUMMARY:Wednesday Night Track Racing
DESCRIPTION:For the full calendar of training sessions and races at the Velodrome\, please see the Velodrome calendar:hellyervelodrome.com/calendar
URL:https://ncnca.org/event/wednesday-night-track-racing/2022-07-06/
LOCATION:Hellyer Park and Velodrome\, 995 Hellyer Ave\, San Jose\, CA\, 95111\, United States
CATEGORIES:Track
GEO:37.287556;-121.812967
X-APPLE-STRUCTURED-LOCATION;VALUE=URI;X-ADDRESS=Hellyer Park and Velodrome 995 Hellyer Ave San Jose CA 95111 United States;X-APPLE-RADIUS=500;X-TITLE=995 Hellyer Ave:geo:-121.812967,37.287556
END:VEVENT
BEGIN:VEVENT
DTSTART;VALUE=DATE:20220709
DTEND;VALUE=DATE:20220710
DTSTAMP:20260421T134451
CREATED:20211215T032223Z
LAST-MODIFIED:20220707T014411Z
UID:10001371-1657324800-1657411199@ncnca.org
SUMMARY:Watsonville Criterium
DESCRIPTION:
URL:https://ncnca.org/event/watsonville-criterium/
LOCATION:Watsonville Criterium\, California St & Brewington Ave\, Watsonville\, CA\, 95076\, United States
CATEGORIES:Criterium,Road
GEO:36.92049;-121.753285
X-APPLE-STRUCTURED-LOCATION;VALUE=URI;X-ADDRESS=Watsonville Criterium California St & Brewington Ave Watsonville CA 95076 United States;X-APPLE-RADIUS=500;X-TITLE=California St & Brewington Ave:geo:-121.753285,36.92049
END:VEVENT
BEGIN:VEVENT
DTSTART;VALUE=DATE:20220713
DTEND;VALUE=DATE:20220714
DTSTAMP:20260421T134451
CREATED:20220601T211444Z
LAST-MODIFIED:20220601T211444Z
UID:10001448-1657670400-1657756799@ncnca.org
SUMMARY:Wednesday Night Track Racing
DESCRIPTION:For the full calendar of training sessions and races at the Velodrome\, please see the Velodrome calendar:hellyervelodrome.com/calendar
URL:https://ncnca.org/event/wednesday-night-track-racing/2022-07-13/
LOCATION:Hellyer Park and Velodrome\, 995 Hellyer Ave\, San Jose\, CA\, 95111\, United States
CATEGORIES:Track
GEO:37.287556;-121.812967
X-APPLE-STRUCTURED-LOCATION;VALUE=URI;X-ADDRESS=Hellyer Park and Velodrome 995 Hellyer Ave San Jose CA 95111 United States;X-APPLE-RADIUS=500;X-TITLE=995 Hellyer Ave:geo:-121.812967,37.287556
END:VEVENT
BEGIN:VEVENT
DTSTART;VALUE=DATE:20220716
DTEND;VALUE=DATE:20220717
DTSTAMP:20260421T134451
CREATED:20220312T044534Z
LAST-MODIFIED:20220525T191525Z
UID:10001419-1657929600-1658015999@ncnca.org
SUMMARY:Cull Canyon Time Trial
DESCRIPTION:
URL:https://ncnca.org/event/cull-canyon-time-trial/
LOCATION:Cull Canyon Regional Recreation Area\, 18627 Cull Canyon Rd\, Castro Valley\, CA\, 94552\, United States
CATEGORIES:Road,Time Trial
GEO:37.7124855;-122.0553127
X-APPLE-STRUCTURED-LOCATION;VALUE=URI;X-ADDRESS=Cull Canyon Regional Recreation Area 18627 Cull Canyon Rd Castro Valley CA 94552 United States;X-APPLE-RADIUS=500;X-TITLE=18627 Cull Canyon Rd:geo:-122.0553127,37.7124855
END:VEVENT
BEGIN:VEVENT
DTSTART;VALUE=DATE:20220720
DTEND;VALUE=DATE:20220721
DTSTAMP:20260421T134451
CREATED:20220601T211444Z
LAST-MODIFIED:20220601T211444Z
UID:10001449-1658275200-1658361599@ncnca.org
SUMMARY:Wednesday Night Track Racing
DESCRIPTION:For the full calendar of training sessions and races at the Velodrome\, please see the Velodrome calendar:hellyervelodrome.com/calendar
URL:https://ncnca.org/event/wednesday-night-track-racing/2022-07-20/
LOCATION:Hellyer Park and Velodrome\, 995 Hellyer Ave\, San Jose\, CA\, 95111\, United States
CATEGORIES:Track
GEO:37.287556;-121.812967
X-APPLE-STRUCTURED-LOCATION;VALUE=URI;X-ADDRESS=Hellyer Park and Velodrome 995 Hellyer Ave San Jose CA 95111 United States;X-APPLE-RADIUS=500;X-TITLE=995 Hellyer Ave:geo:-121.812967,37.287556
END:VEVENT
END:VCALENDAR