BEGIN:VCALENDAR
VERSION:2.0
PRODID:-// - ECPv6.15.17.1//NONSGML v1.0//EN
CALSCALE:GREGORIAN
METHOD:PUBLISH
X-ORIGINAL-URL:https://ncnca.org
X-WR-CALDESC:Events for 
REFRESH-INTERVAL;VALUE=DURATION:PT1H
X-Robots-Tag:noindex
X-PUBLISHED-TTL:PT1H
BEGIN:VTIMEZONE
TZID:America/Los_Angeles
BEGIN:DAYLIGHT
TZOFFSETFROM:-0800
TZOFFSETTO:-0700
TZNAME:PDT
DTSTART:20240310T100000
END:DAYLIGHT
BEGIN:STANDARD
TZOFFSETFROM:-0700
TZOFFSETTO:-0800
TZNAME:PST
DTSTART:20241103T090000
END:STANDARD
BEGIN:DAYLIGHT
TZOFFSETFROM:-0800
TZOFFSETTO:-0700
TZNAME:PDT
DTSTART:20250309T100000
END:DAYLIGHT
BEGIN:STANDARD
TZOFFSETFROM:-0700
TZOFFSETTO:-0800
TZNAME:PST
DTSTART:20251102T090000
END:STANDARD
BEGIN:DAYLIGHT
TZOFFSETFROM:-0800
TZOFFSETTO:-0700
TZNAME:PDT
DTSTART:20260308T100000
END:DAYLIGHT
BEGIN:STANDARD
TZOFFSETFROM:-0700
TZOFFSETTO:-0800
TZNAME:PST
DTSTART:20261101T090000
END:STANDARD
END:VTIMEZONE
BEGIN:VEVENT
DTSTART;VALUE=DATE:20250502
DTEND;VALUE=DATE:20250503
DTSTAMP:20260419T172128
CREATED:20241113T222901Z
LAST-MODIFIED:20250512T175627Z
UID:10002182-1746144000-1746230399@ncnca.org
SUMMARY:Golden State Race Series - Time Trial
DESCRIPTION:Golden State Race Series is part of the USA Masters & Juniors Cup in 2025! \nFor more information on the USA Juniors Cup: https://usajuniorscup.com/ \nFor more information on the USA Masters Cup: https://usamasterscup.com/
URL:https://ncnca.org/event/golden-state-race-series-time-trial-2/
LOCATION:Golden State Race Series\, 11000 Cobblerock Drive\, Rancho Cordova\, CA\, United States
CATEGORIES:Juniors,Road,Time Trial
ATTACH;FMTTYPE=image/jpeg:https://ncnca.org/wp-content/uploads/2024/11/467756026_18472254064049454_1384867606192204621_n.jpg
GEO:38.5933341;-121.276664
X-APPLE-STRUCTURED-LOCATION;VALUE=URI;X-ADDRESS=Golden State Race Series 11000 Cobblerock Drive Rancho Cordova CA United States;X-APPLE-RADIUS=500;X-TITLE=11000 Cobblerock Drive:geo:-121.276664,38.5933341
END:VEVENT
BEGIN:VEVENT
DTSTART;VALUE=DATE:20250503
DTEND;VALUE=DATE:20250504
DTSTAMP:20260419T172128
CREATED:20241113T223153Z
LAST-MODIFIED:20250512T175700Z
UID:10002183-1746230400-1746316799@ncnca.org
SUMMARY:Golden State Race Series - Criterium
DESCRIPTION:
URL:https://ncnca.org/event/golden-state-race-series-criterium-2/
LOCATION:Golden State Race Series\, 11000 Cobblerock Drive\, Rancho Cordova\, CA\, United States
CATEGORIES:Criterium,Juniors,Road
GEO:38.5933341;-121.276664
X-APPLE-STRUCTURED-LOCATION;VALUE=URI;X-ADDRESS=Golden State Race Series 11000 Cobblerock Drive Rancho Cordova CA United States;X-APPLE-RADIUS=500;X-TITLE=11000 Cobblerock Drive:geo:-121.276664,38.5933341
END:VEVENT
BEGIN:VEVENT
DTSTART;VALUE=DATE:20250504
DTEND;VALUE=DATE:20250505
DTSTAMP:20260419T172128
CREATED:20241113T223259Z
LAST-MODIFIED:20250512T175740Z
UID:10002184-1746316800-1746403199@ncnca.org
SUMMARY:Golden State Race Series - Circuit
DESCRIPTION:
URL:https://ncnca.org/event/golden-state-race-series-circuit-2/
LOCATION:Golden State Race Series\, 11000 Cobblerock Drive\, Rancho Cordova\, CA\, United States
CATEGORIES:Circuit Race,Juniors,Road
GEO:38.5933341;-121.276664
X-APPLE-STRUCTURED-LOCATION;VALUE=URI;X-ADDRESS=Golden State Race Series 11000 Cobblerock Drive Rancho Cordova CA United States;X-APPLE-RADIUS=500;X-TITLE=11000 Cobblerock Drive:geo:-121.276664,38.5933341
END:VEVENT
BEGIN:VEVENT
DTSTART;VALUE=DATE:20250504
DTEND;VALUE=DATE:20250505
DTSTAMP:20260419T172128
CREATED:20250422T004936Z
LAST-MODIFIED:20250422T004936Z
UID:10002239-1746316800-1746403199@ncnca.org
SUMMARY:CA Dirt MTB Series - R1 - Hoot XC\, Nevada City
DESCRIPTION:
URL:https://ncnca.org/event/ca-dirt-mtb-series-r1-hoot-xc-nevada-city/
LOCATION:Hoot Loop\, Nevada City\, 11494-11492 Conservation Rd\, Nevada City\, 95959\, United States
CATEGORIES:MTB
ATTACH;FMTTYPE=image/jpeg:https://ncnca.org/wp-content/uploads/2025/04/CA_Dirt_25.jpg
END:VEVENT
BEGIN:VEVENT
DTSTART;VALUE=DATE:20250510
DTEND;VALUE=DATE:20250511
DTSTAMP:20260419T172128
CREATED:20241114T002246Z
LAST-MODIFIED:20250512T175845Z
UID:10002185-1746835200-1746921599@ncnca.org
SUMMARY:Winchester Circuit Race
DESCRIPTION:
URL:https://ncnca.org/event/winchester-circuit-race-6/
LOCATION:Winchester Circuit Race\, 1100 Sugar Pine Rd\, Meadow Vista\, CA\, 95722\, United States
CATEGORIES:Circuit Race,Juniors,Road
ATTACH;FMTTYPE=image/png:https://ncnca.org/wp-content/uploads/2024/11/WinchesterCircuit2024-scaled.png
GEO:38.98288;-121.02619
X-APPLE-STRUCTURED-LOCATION;VALUE=URI;X-ADDRESS=Winchester Circuit Race 1100 Sugar Pine Rd Meadow Vista CA 95722 United States;X-APPLE-RADIUS=500;X-TITLE=1100 Sugar Pine Rd:geo:-121.02619,38.98288
END:VEVENT
BEGIN:VEVENT
DTSTART;VALUE=DATE:20250510
DTEND;VALUE=DATE:20250511
DTSTAMP:20260419T172128
CREATED:20250129T073142Z
LAST-MODIFIED:20250508T194911Z
UID:10002230-1746835200-1746921599@ncnca.org
SUMMARY:2025 NorCal Crusher Cup #1
DESCRIPTION:Lake Sonoma @ Lone Rock\nCrusher Cup Lake Sonoma Starts at the top of the course – unorthodox for an XC race.  We emphasize putting together a course altogether different with a wide range of terrain.  The course will also break-up the climbs into manageable pieces by using both sides of the mountain. \nSEE YOU AT LAKE SONOMA!
URL:https://ncnca.org/event/crusher-cup-2025-mtb-race-1/
LOCATION:Lake Sonoma\, Lone Rock Trailhead\, Geyserville\, CA\, 95441\, United States
CATEGORIES:Juniors,MTB
ATTACH;FMTTYPE=image/webp:https://ncnca.org/wp-content/uploads/2025/01/lake-sonoma.webp
GEO:38.7158394;-123.0467976
X-APPLE-STRUCTURED-LOCATION;VALUE=URI;X-ADDRESS=Lake Sonoma Lone Rock Trailhead Geyserville CA 95441 United States;X-APPLE-RADIUS=500;X-TITLE=Lone Rock Trailhead:geo:-123.0467976,38.7158394
END:VEVENT
BEGIN:VEVENT
DTSTART;TZID=America/Los_Angeles:20250519T190000
DTEND;TZID=America/Los_Angeles:20250519T210000
DTSTAMP:20260419T172128
CREATED:20250113T190907Z
LAST-MODIFIED:20250113T190907Z
UID:10002061-1747681200-1747688400@ncnca.org
SUMMARY:NCNCA Monthly BOD Meeting - 2025
DESCRIPTION:NCNCA BOD is inviting you to a scheduled Zoom meeting. \nJoin Zoom Meeting\nhttps://us06web.zoom.us/j/85063114241?pwd=JKeDXrpURQy7iGBvWzNk051bEIFbIP.1 \nMeeting ID: 850 6311 4241\nPasscode: 815130 \n— \nOne tap mobile\n+16694449171\,\,85063114241#\,\,\,\,*815130# US\n+17207072699\,\,85063114241#\,\,\,\,*815130# US (Denver) \n— \nDial by your location\n• +1 669 444 9171 US\n• +1 720 707 2699 US (Denver)\n• +1 253 205 0468 US\n• +1 253 215 8782 US (Tacoma)\n• +1 346 248 7799 US (Houston)\n• +1 719 359 4580 US\n• +1 386 347 5053 US\n• +1 507 473 4847 US\n• +1 564 217 2000 US\n• +1 646 558 8656 US (New York)\n• +1 646 931 3860 US\n• +1 689 278 1000 US\n• +1 301 715 8592 US (Washington DC)\n• +1 305 224 1968 US\n• +1 309 205 3325 US\n• +1 312 626 6799 US (Chicago)\n• +1 360 209 5623 US \nMeeting ID: 850 6311 4241\nPasscode: 815130 \nFind your local number: https://us06web.zoom.us/u/kc0hBhh7k8
URL:https://ncnca.org/event/ncnca-monthly-bod-meeting-2024-2-3/2025-05-19/
LOCATION:Zoom\, CA\, United States
ATTACH;FMTTYPE=image/jpeg:https://ncnca.org/wp-content/uploads/2024/01/NCNCABOD.jpg
GEO:36.778261;-119.4179324
END:VEVENT
BEGIN:VEVENT
DTSTART;VALUE=DATE:20250524
DTEND;VALUE=DATE:20250525
DTSTAMP:20260419T172128
CREATED:20241114T002908Z
LAST-MODIFIED:20250428T161547Z
UID:10002186-1748044800-1748131199@ncnca.org
SUMMARY:Wards Ferry Road Race
DESCRIPTION:
URL:https://ncnca.org/event/wards-ferry-road-race-4/
LOCATION:Wards Ferry\, Tuolumne Rd & Nugget Blvd\, Sonora\, CA\, United States
CATEGORIES:Road,Road Race
GEO:37.9617912;-120.3251967
X-APPLE-STRUCTURED-LOCATION;VALUE=URI;X-ADDRESS=Wards Ferry Tuolumne Rd & Nugget Blvd Sonora CA United States;X-APPLE-RADIUS=500;X-TITLE=Tuolumne Rd & Nugget Blvd:geo:-120.3251967,37.9617912
END:VEVENT
BEGIN:VEVENT
DTSTART;VALUE=DATE:20250524
DTEND;VALUE=DATE:20250525
DTSTAMP:20260419T172128
CREATED:20250422T005351Z
LAST-MODIFIED:20250518T040629Z
UID:10002240-1748044800-1748131199@ncnca.org
SUMMARY:CA Dirt MTB Series - R2 - Ridin' High at the Ranch
DESCRIPTION:
URL:https://ncnca.org/event/ca-dirt-mtb-series-r2-ridin-high-at-the-ranch/
LOCATION:Susanville\, CA\, 489-485 Cherry Terrace\, Susanville\, CA\, 96130\, United States
CATEGORIES:Kid's Race,MTB
ATTACH;FMTTYPE=image/jpeg:https://ncnca.org/wp-content/uploads/2025/04/CA_Dirt_25.jpg
GEO:36.778261;-119.4179324
X-APPLE-STRUCTURED-LOCATION;VALUE=URI;X-ADDRESS=Susanville CA 489-485 Cherry Terrace Susanville CA 96130 United States;X-APPLE-RADIUS=500;X-TITLE=489-485 Cherry Terrace:geo:-119.4179324,36.778261
END:VEVENT
BEGIN:VEVENT
DTSTART;VALUE=DATE:20250531
DTEND;VALUE=DATE:20250601
DTSTAMP:20260419T172128
CREATED:20241114T003125Z
LAST-MODIFIED:20250603T173047Z
UID:10002187-1748649600-1748735999@ncnca.org
SUMMARY:Dash for Cash: NCNCA Junior District Championship
DESCRIPTION:The 32nd Edition of Christian Cycling’s \nDASH FOR CASH \nPresented by HAMMER NUTRITION \nNCNCA Junior Criterium Championships for racing ages 11-16  & FREE Kid’s race for those 4-10. \nNotes: a. Dash for Cash primes! b. Total field size combined. Fields picked separately. c. Best JR 18-younger Rider Race $50. d. $100 prize for first rider any race to lap the field (minimum field size 25). \nNCNCA Junior Criterium Championships Information**: \ne. U14 boys and girls NCNCA Criterium Championships\, 30 minutes\, based on USA Cycling rule 7e5* 11-12 and 13-14 race together\, picked separately\nf. 15-16 boys and girls NCNCA Criterium Championships\, 45 minutes\, based on USA Cycling rule 7e5* \nDash for Cash laps with races with 10 or more racers will begin on the second lap and last for a maximum of 20 laps at $10 per lap. Races with less than 10 racers will have Dash for Cash Laps determined at the start of the race by Race Director. \nIncentives Unique to Dash for Cash\n• 10% of proceeds will be donated to Shepherd’s Gate Women’s & Children’s Shelter.\n• Lap the Field Cash: $100 prize for first rider in any race to lap the field (minimum field size of 25).\n• Best Young Rider Competition: $50 Best Young Rider Award for first U18 finisher in designated races on race flyer.
URL:https://ncnca.org/event/dash-for-cash-4/
LOCATION:Pleasanton\, CA\, 4942-4930 Franklin Dr\, Pleasanton\, CA\, 94588\, United States
CATEGORIES:Criterium,Juniors,Kid's Race,Road
ATTACH;FMTTYPE=image/png:https://ncnca.org/wp-content/uploads/2024/11/Dash-For-Cash-2025.png
GEO:37.6604484;-121.8757968
X-APPLE-STRUCTURED-LOCATION;VALUE=URI;X-ADDRESS=Pleasanton CA 4942-4930 Franklin Dr Pleasanton CA 94588 United States;X-APPLE-RADIUS=500;X-TITLE=4942-4930 Franklin Dr:geo:-121.8757968,37.6604484
END:VEVENT
END:VCALENDAR