BEGIN:VCALENDAR
VERSION:2.0
PRODID:-// - ECPv6.15.17.1//NONSGML v1.0//EN
CALSCALE:GREGORIAN
METHOD:PUBLISH
X-ORIGINAL-URL:https://ncnca.org
X-WR-CALDESC:Events for 
REFRESH-INTERVAL;VALUE=DURATION:PT1H
X-Robots-Tag:noindex
X-PUBLISHED-TTL:PT1H
BEGIN:VTIMEZONE
TZID:America/Los_Angeles
BEGIN:DAYLIGHT
TZOFFSETFROM:-0800
TZOFFSETTO:-0700
TZNAME:PDT
DTSTART:20240310T100000
END:DAYLIGHT
BEGIN:STANDARD
TZOFFSETFROM:-0700
TZOFFSETTO:-0800
TZNAME:PST
DTSTART:20241103T090000
END:STANDARD
BEGIN:DAYLIGHT
TZOFFSETFROM:-0800
TZOFFSETTO:-0700
TZNAME:PDT
DTSTART:20250309T100000
END:DAYLIGHT
BEGIN:STANDARD
TZOFFSETFROM:-0700
TZOFFSETTO:-0800
TZNAME:PST
DTSTART:20251102T090000
END:STANDARD
BEGIN:DAYLIGHT
TZOFFSETFROM:-0800
TZOFFSETTO:-0700
TZNAME:PDT
DTSTART:20260308T100000
END:DAYLIGHT
BEGIN:STANDARD
TZOFFSETFROM:-0700
TZOFFSETTO:-0800
TZNAME:PST
DTSTART:20261101T090000
END:STANDARD
END:VTIMEZONE
BEGIN:VEVENT
DTSTART;VALUE=DATE:20250704
DTEND;VALUE=DATE:20250705
DTSTAMP:20260419T213104
CREATED:20241114T004209Z
LAST-MODIFIED:20250709T165522Z
UID:10002192-1751587200-1751673599@ncnca.org
SUMMARY:Helen Pool Fourth of July Criterium
DESCRIPTION:Kid’s Race at 12:15 and Vintage Bike Race at 12:30!
URL:https://ncnca.org/event/helen-pool-fourth-of-july-criterium/
LOCATION:Davis 4th of July Crit\, F St & 3rd St\, Davis\, CA\, 95616\, United States
CATEGORIES:Criterium,Juniors,Kid's Race,Road
ATTACH;FMTTYPE=image/png:https://ncnca.org/wp-content/uploads/2024/11/09a003de-29a4-4b77-bd49-2f043965d2e5.png
GEO:38.54474;-121.7403266
X-APPLE-STRUCTURED-LOCATION;VALUE=URI;X-ADDRESS=Davis 4th of July Crit F St & 3rd St Davis CA 95616 United States;X-APPLE-RADIUS=500;X-TITLE=F St & 3rd St:geo:-121.7403266,38.54474
END:VEVENT
BEGIN:VEVENT
DTSTART;VALUE=DATE:20250705
DTEND;VALUE=DATE:20250706
DTSTAMP:20260419T213104
CREATED:20241114T004358Z
LAST-MODIFIED:20250709T165553Z
UID:10002193-1751673600-1751759999@ncnca.org
SUMMARY:Watsonville Criterium
DESCRIPTION:FREE kid’s race! \nSign up to be a VOLUNTEER HERE!
URL:https://ncnca.org/event/watsonville-criterium-4/
LOCATION:Watsonville Criterium\, California St & Brewington Ave\, Watsonville\, CA\, 95076\, United States
CATEGORIES:Criterium,Kid's Race,Road
GEO:36.92049;-121.753285
X-APPLE-STRUCTURED-LOCATION;VALUE=URI;X-ADDRESS=Watsonville Criterium California St & Brewington Ave Watsonville CA 95076 United States;X-APPLE-RADIUS=500;X-TITLE=California St & Brewington Ave:geo:-121.753285,36.92049
END:VEVENT
BEGIN:VEVENT
DTSTART;VALUE=DATE:20250706
DTEND;VALUE=DATE:20250707
DTSTAMP:20260419T213104
CREATED:20250129T075659Z
LAST-MODIFIED:20250129T075855Z
UID:10002232-1751760000-1751846399@ncnca.org
SUMMARY:2025 NorCal Crusher Cup #3
DESCRIPTION:Experience the sweetness for Santa Cruz’s hidden gem and premiere XC venue. \nDeLa is a truly beautiful combination of terrain – from fast hard pack\, to flowing curves\, to roots and rocks.  The course features a single main climb on double-track/fire road with plenty of passing space\, while the rest of the course is pure singletrack. \nIf you haven’t visited – you will not want to miss this!
URL:https://ncnca.org/event/2025-norcal-crusher-cup-3/
LOCATION:Delaveaga Park\, Branciforte Drive\, Santa Cruz\, CA\, 95065\, United States
CATEGORIES:Juniors,MTB
ATTACH;FMTTYPE=image/webp:https://ncnca.org/wp-content/uploads/2025/01/DeLaveaga.webp
GEO:36.9986454;-122.0050815
X-APPLE-STRUCTURED-LOCATION;VALUE=URI;X-ADDRESS=Delaveaga Park Branciforte Drive Santa Cruz CA 95065 United States;X-APPLE-RADIUS=500;X-TITLE=Branciforte Drive:geo:-122.0050815,36.9986454
END:VEVENT
END:VCALENDAR