BEGIN:VCALENDAR
VERSION:2.0
PRODID:-// - ECPv6.15.17.1//NONSGML v1.0//EN
CALSCALE:GREGORIAN
METHOD:PUBLISH
X-ORIGINAL-URL:https://ncnca.org
X-WR-CALDESC:Events for 
REFRESH-INTERVAL;VALUE=DURATION:PT1H
X-Robots-Tag:noindex
X-PUBLISHED-TTL:PT1H
BEGIN:VTIMEZONE
TZID:America/Los_Angeles
BEGIN:DAYLIGHT
TZOFFSETFROM:-0800
TZOFFSETTO:-0700
TZNAME:PDT
DTSTART:20190310T100000
END:DAYLIGHT
BEGIN:STANDARD
TZOFFSETFROM:-0700
TZOFFSETTO:-0800
TZNAME:PST
DTSTART:20191103T090000
END:STANDARD
BEGIN:DAYLIGHT
TZOFFSETFROM:-0800
TZOFFSETTO:-0700
TZNAME:PDT
DTSTART:20200308T100000
END:DAYLIGHT
BEGIN:STANDARD
TZOFFSETFROM:-0700
TZOFFSETTO:-0800
TZNAME:PST
DTSTART:20201101T090000
END:STANDARD
BEGIN:DAYLIGHT
TZOFFSETFROM:-0800
TZOFFSETTO:-0700
TZNAME:PDT
DTSTART:20210314T100000
END:DAYLIGHT
BEGIN:STANDARD
TZOFFSETFROM:-0700
TZOFFSETTO:-0800
TZNAME:PST
DTSTART:20211107T090000
END:STANDARD
END:VTIMEZONE
BEGIN:VEVENT
DTSTART;VALUE=DATE:20200308
DTEND;VALUE=DATE:20200309
DTSTAMP:20260420T051547
CREATED:20191211T032601Z
LAST-MODIFIED:20200212T004338Z
UID:10001215-1583625600-1583711999@ncnca.org
SUMMARY:Sky Express Livermore Criterium
DESCRIPTION:
URL:https://ncnca.org/event/sky-express-livermore-criterium/
LOCATION:City of Livermore\, Livermore\, CA\, 94551\, United States
CATEGORIES:Criterium,Road
GEO:37.7537708;-121.7879244
END:VEVENT
BEGIN:VEVENT
DTSTART;VALUE=DATE:20200209
DTEND;VALUE=DATE:20200210
DTSTAMP:20260420T051547
CREATED:20191204T210841Z
LAST-MODIFIED:20200102T180146Z
UID:10001209-1581206400-1581292799@ncnca.org
SUMMARY:SkyExpress Livermore Circuit Race
DESCRIPTION:
URL:https://ncnca.org/event/skyexpress-livermore-circuit-race/
LOCATION:City of Livermore\, Livermore\, CA\, 94551\, United States
CATEGORIES:Circuit Race,Road
GEO:37.7537708;-121.7879244
END:VEVENT
END:VCALENDAR