BEGIN:VCALENDAR
VERSION:2.0
PRODID:-// - ECPv6.15.17.1//NONSGML v1.0//EN
CALSCALE:GREGORIAN
METHOD:PUBLISH
X-ORIGINAL-URL:https://ncnca.org
X-WR-CALDESC:Events for 
REFRESH-INTERVAL;VALUE=DURATION:PT1H
X-Robots-Tag:noindex
X-PUBLISHED-TTL:PT1H
BEGIN:VTIMEZONE
TZID:America/Los_Angeles
BEGIN:DAYLIGHT
TZOFFSETFROM:-0800
TZOFFSETTO:-0700
TZNAME:PDT
DTSTART:20210314T100000
END:DAYLIGHT
BEGIN:STANDARD
TZOFFSETFROM:-0700
TZOFFSETTO:-0800
TZNAME:PST
DTSTART:20211107T090000
END:STANDARD
BEGIN:DAYLIGHT
TZOFFSETFROM:-0800
TZOFFSETTO:-0700
TZNAME:PDT
DTSTART:20220313T100000
END:DAYLIGHT
BEGIN:STANDARD
TZOFFSETFROM:-0700
TZOFFSETTO:-0800
TZNAME:PST
DTSTART:20221106T090000
END:STANDARD
BEGIN:DAYLIGHT
TZOFFSETFROM:-0800
TZOFFSETTO:-0700
TZNAME:PDT
DTSTART:20230312T100000
END:DAYLIGHT
BEGIN:STANDARD
TZOFFSETFROM:-0700
TZOFFSETTO:-0800
TZNAME:PST
DTSTART:20231105T090000
END:STANDARD
BEGIN:DAYLIGHT
TZOFFSETFROM:-0800
TZOFFSETTO:-0700
TZNAME:PDT
DTSTART:20240310T100000
END:DAYLIGHT
BEGIN:STANDARD
TZOFFSETFROM:-0700
TZOFFSETTO:-0800
TZNAME:PST
DTSTART:20241103T090000
END:STANDARD
BEGIN:DAYLIGHT
TZOFFSETFROM:-0800
TZOFFSETTO:-0700
TZNAME:PDT
DTSTART:20250309T100000
END:DAYLIGHT
BEGIN:STANDARD
TZOFFSETFROM:-0700
TZOFFSETTO:-0800
TZNAME:PST
DTSTART:20251102T090000
END:STANDARD
END:VTIMEZONE
BEGIN:VEVENT
DTSTART;VALUE=DATE:20240810
DTEND;VALUE=DATE:20240811
DTSTAMP:20260423T004030
CREATED:20231026T220211Z
LAST-MODIFIED:20240712T012402Z
UID:10001627-1723248000-1723334399@ncnca.org
SUMMARY:Dunnigan Hills Road Race - 2024 NCNCA Premier Series
DESCRIPTION:
URL:https://ncnca.org/event/dunnigan-hills-road-race-3/
LOCATION:Dunnigan Hills\, 4040 Road 89\, Dunnigan\, CA\, 95937\, United States
CATEGORIES:Road,Road Race
GEO:38.8812001;-121.9713598
X-APPLE-STRUCTURED-LOCATION;VALUE=URI;X-ADDRESS=Dunnigan Hills 4040 Road 89 Dunnigan CA 95937 United States;X-APPLE-RADIUS=500;X-TITLE=4040 Road 89:geo:-121.9713598,38.8812001
END:VEVENT
BEGIN:VEVENT
DTSTART;VALUE=DATE:20230812
DTEND;VALUE=DATE:20230813
DTSTAMP:20260423T004030
CREATED:20221202T053928Z
LAST-MODIFIED:20230803T003156Z
UID:10001533-1691798400-1691884799@ncnca.org
SUMMARY:Dunnigan Hills Road Race
DESCRIPTION:
URL:https://ncnca.org/event/dunnigan-hills-road-race-2/
LOCATION:Dunnigan Hills\, 4040 Road 89\, Dunnigan\, CA\, 95937\, United States
CATEGORIES:Road,Road Race
GEO:38.8812001;-121.9713598
X-APPLE-STRUCTURED-LOCATION;VALUE=URI;X-ADDRESS=Dunnigan Hills 4040 Road 89 Dunnigan CA 95937 United States;X-APPLE-RADIUS=500;X-TITLE=4040 Road 89:geo:-121.9713598,38.8812001
END:VEVENT
BEGIN:VEVENT
DTSTART;VALUE=DATE:20220828
DTEND;VALUE=DATE:20220829
DTSTAMP:20260423T004030
CREATED:20211215T032223Z
LAST-MODIFIED:20220818T014646Z
UID:10001376-1661644800-1661731199@ncnca.org
SUMMARY:Dunnigan Hills Road Race
DESCRIPTION:
URL:https://ncnca.org/event/dunnigan-hills-road-race/
LOCATION:Dunnigan Hills\, 4040 Road 89\, Dunnigan\, CA\, 95937\, United States
CATEGORIES:Road,Road Race
GEO:38.8812001;-121.9713598
X-APPLE-STRUCTURED-LOCATION;VALUE=URI;X-ADDRESS=Dunnigan Hills 4040 Road 89 Dunnigan CA 95937 United States;X-APPLE-RADIUS=500;X-TITLE=4040 Road 89:geo:-121.9713598,38.8812001
END:VEVENT
END:VCALENDAR