BEGIN:VCALENDAR
VERSION:2.0
PRODID:-// - ECPv6.15.17.1//NONSGML v1.0//EN
CALSCALE:GREGORIAN
METHOD:PUBLISH
X-ORIGINAL-URL:https://ncnca.org
X-WR-CALDESC:Events for 
REFRESH-INTERVAL;VALUE=DURATION:PT1H
X-Robots-Tag:noindex
X-PUBLISHED-TTL:PT1H
BEGIN:VTIMEZONE
TZID:America/Los_Angeles
BEGIN:DAYLIGHT
TZOFFSETFROM:-0800
TZOFFSETTO:-0700
TZNAME:PDT
DTSTART:20210314T100000
END:DAYLIGHT
BEGIN:STANDARD
TZOFFSETFROM:-0700
TZOFFSETTO:-0800
TZNAME:PST
DTSTART:20211107T090000
END:STANDARD
BEGIN:DAYLIGHT
TZOFFSETFROM:-0800
TZOFFSETTO:-0700
TZNAME:PDT
DTSTART:20220313T100000
END:DAYLIGHT
BEGIN:STANDARD
TZOFFSETFROM:-0700
TZOFFSETTO:-0800
TZNAME:PST
DTSTART:20221106T090000
END:STANDARD
BEGIN:DAYLIGHT
TZOFFSETFROM:-0800
TZOFFSETTO:-0700
TZNAME:PDT
DTSTART:20230312T100000
END:DAYLIGHT
BEGIN:STANDARD
TZOFFSETFROM:-0700
TZOFFSETTO:-0800
TZNAME:PST
DTSTART:20231105T090000
END:STANDARD
BEGIN:DAYLIGHT
TZOFFSETFROM:-0800
TZOFFSETTO:-0700
TZNAME:PDT
DTSTART:20240310T100000
END:DAYLIGHT
BEGIN:STANDARD
TZOFFSETFROM:-0700
TZOFFSETTO:-0800
TZNAME:PST
DTSTART:20241103T090000
END:STANDARD
BEGIN:DAYLIGHT
TZOFFSETFROM:-0800
TZOFFSETTO:-0700
TZNAME:PDT
DTSTART:20250309T100000
END:DAYLIGHT
BEGIN:STANDARD
TZOFFSETFROM:-0700
TZOFFSETTO:-0800
TZNAME:PST
DTSTART:20251102T090000
END:STANDARD
BEGIN:DAYLIGHT
TZOFFSETFROM:-0800
TZOFFSETTO:-0700
TZNAME:PDT
DTSTART:20260308T100000
END:DAYLIGHT
BEGIN:STANDARD
TZOFFSETFROM:-0700
TZOFFSETTO:-0800
TZNAME:PST
DTSTART:20261101T090000
END:STANDARD
END:VTIMEZONE
BEGIN:VEVENT
DTSTART;VALUE=DATE:20250713
DTEND;VALUE=DATE:20250714
DTSTAMP:20260419T065503
CREATED:20241114T003928Z
LAST-MODIFIED:20250428T161841Z
UID:10002191-1752364800-1752451199@ncnca.org
SUMMARY:AVRT Pescadero Circuit
DESCRIPTION:
URL:https://ncnca.org/event/avrt-pescadero-circuit/
LOCATION:Pescadero Road Race\, 350 Butano Cut-Off\, Pescadero\, CA\, 94060\, United States
CATEGORIES:Circuit Race,Juniors,Road
GEO:37.2479536;-122.3646592
X-APPLE-STRUCTURED-LOCATION;VALUE=URI;X-ADDRESS=Pescadero Road Race 350 Butano Cut-Off Pescadero CA 94060 United States;X-APPLE-RADIUS=500;X-TITLE=350 Butano Cut-Off:geo:-122.3646592,37.2479536
END:VEVENT
BEGIN:VEVENT
DTSTART;VALUE=DATE:20250712
DTEND;VALUE=DATE:20250713
DTSTAMP:20260419T065503
CREATED:20241114T003837Z
LAST-MODIFIED:20250714T151926Z
UID:10002190-1752278400-1752364799@ncnca.org
SUMMARY:AVRT Pescadero Road Race - NCNCA District Road Race Championship (Elite M&W\, Masters M&W)
DESCRIPTION:This is NCNCA Road Race District Championship for Road Race all categories except Juniors.  It’s is the rider’s responsibility to know qualifications.  Per USAC Rule: \nUSAC 7J3 Eligiblity: (a) to be eligible for a State Championship jersey or medal\, a rider must hold a current USA Cycling annual license and reside in the state as shown as the rider’s license. (b) State championships are open to US Citizens and permanent residents (green card) with a USA Cycling annual license. (c) Members of UCI Road teams are not eligible for road championships unless there is a separate class for them. (d) at the option of the Administrators\, State Championships may include rider who are ineligible for the championship but championships will be awarded to only riders who are eligible. \nAlso review NCNCA District Championship policy: https://ncnca.org/wp-content/uploads/2025/01/2025-NCNCA-District-Championship-Policy.pdf \nAlto Velo – Race Promoter Event Website: https://www.altovelo.org/pescadero-rr \nVolunteers are needed! REGISTER to Volunteer HERE
URL:https://ncnca.org/event/avrt-pescadero-road-race/
LOCATION:Pescadero Road Race\, 350 Butano Cut-Off\, Pescadero\, CA\, 94060\, United States
CATEGORIES:Championships,Road,Road Race
ATTACH;FMTTYPE=image/jpeg:https://ncnca.org/wp-content/uploads/2024/11/PEscardero-2025.jpg
GEO:37.2479536;-122.3646592
X-APPLE-STRUCTURED-LOCATION;VALUE=URI;X-ADDRESS=Pescadero Road Race 350 Butano Cut-Off Pescadero CA 94060 United States;X-APPLE-RADIUS=500;X-TITLE=350 Butano Cut-Off:geo:-122.3646592,37.2479536
END:VEVENT
BEGIN:VEVENT
DTSTART;VALUE=DATE:20240616
DTEND;VALUE=DATE:20240617
DTSTAMP:20260419T065503
CREATED:20231026T214813Z
LAST-MODIFIED:20240430T184505Z
UID:10001620-1718496000-1718582399@ncnca.org
SUMMARY:ARVT Pescadero Circuit Race - Cancelled
DESCRIPTION:
URL:https://ncnca.org/event/arvt-pescadero-circuit-race/
LOCATION:Pescadero Road Race\, 350 Butano Cut-Off\, Pescadero\, CA\, 94060\, United States
CATEGORIES:Circuit Race,Road
GEO:37.2479536;-122.3646592
X-APPLE-STRUCTURED-LOCATION;VALUE=URI;X-ADDRESS=Pescadero Road Race 350 Butano Cut-Off Pescadero CA 94060 United States;X-APPLE-RADIUS=500;X-TITLE=350 Butano Cut-Off:geo:-122.3646592,37.2479536
END:VEVENT
BEGIN:VEVENT
DTSTART;VALUE=DATE:20240615
DTEND;VALUE=DATE:20240616
DTSTAMP:20260419T065503
CREATED:20231026T214714Z
LAST-MODIFIED:20240617T023701Z
UID:10001619-1718409600-1718495999@ncnca.org
SUMMARY:ARVT Pescadero Road Race - 2024 NCNCA District Championship & Premier Series
DESCRIPTION:Pesky 2024 Flyer V3 0529.pptx
URL:https://ncnca.org/event/arvt-pescadero-road-race/
LOCATION:Pescadero Road Race\, 350 Butano Cut-Off\, Pescadero\, CA\, 94060\, United States
CATEGORIES:Championships,Road,Road Race,Women
ATTACH;FMTTYPE=image/jpeg:https://ncnca.org/wp-content/uploads/2024/03/image0-2-e1710262755136.jpeg
GEO:37.2479536;-122.3646592
X-APPLE-STRUCTURED-LOCATION;VALUE=URI;X-ADDRESS=Pescadero Road Race 350 Butano Cut-Off Pescadero CA 94060 United States;X-APPLE-RADIUS=500;X-TITLE=350 Butano Cut-Off:geo:-122.3646592,37.2479536
END:VEVENT
BEGIN:VEVENT
DTSTART;VALUE=DATE:20230722
DTEND;VALUE=DATE:20230723
DTSTAMP:20260419T065503
CREATED:20221202T053204Z
LAST-MODIFIED:20230724T180537Z
UID:10001526-1689984000-1690070399@ncnca.org
SUMMARY:Pescadero Road Race
DESCRIPTION: Pescadero Road Race update – moved to 7/22!  \nDue to the closure of Stage Road\, we are pushing the race date and adjusting the course. We will be closing HWY 1 northbound to ensure safe and fair racing for all athletes. Lots of races have been canceled this year\, and we want to ensure that Pescadero stays on the calendar! \nAlto Velo welcomes all race participants regardless of financial means. If the race fee is a financial barrier for you then please reach out to races(at)altovelo.org for a free entry. \nSTRAVA COURSE ROUTE \n \nRIDERS NOTE; \nThe course does NOT pass the start area each lap. Familiarize yourself with the course. \nPlease be respectful of local residents and other road users along the course. The course is open to all traffic in both directions\, be aware of vehicles wanting to pass. Keep to the right side of the road as much as possible\, particularly on Haskins climb to the finish line. Please stay to the right. Take caution on the descents. \nPlease do not throw your gel and bar wrappers on the roadside; keep them in your pockets. If you must discard wrappers\, please do so in the feed zone where race volunteers will collect it. \nThere will also be two clothing drop locations to drop arm warmers or vests\, at the start of the feed zone or as you pass the junction of Butano Cut-off. Race volunteers will bring dropped clothing items back to the registration area for collecting\, please ensure your clothing has your name. \nThere will be neutral feed\, and volunteer feeders will be positioned at the beginning of the feed zone. \nHungry afterward? Support the local businesses – the gas station does excellent tacos\, and the Arcangeli Grocery store does great sandwiches. \nThanks\, and have a great race!
URL:https://ncnca.org/event/pescadero-road-race-4/
LOCATION:Pescadero Road Race\, 350 Butano Cut-Off\, Pescadero\, CA\, 94060\, United States
CATEGORIES:Road,Road Race
ATTACH;FMTTYPE=image/jpeg:https://ncnca.org/wp-content/uploads/2022/12/Pescadero2023.jpg
GEO:37.2479536;-122.3646592
X-APPLE-STRUCTURED-LOCATION;VALUE=URI;X-ADDRESS=Pescadero Road Race 350 Butano Cut-Off Pescadero CA 94060 United States;X-APPLE-RADIUS=500;X-TITLE=350 Butano Cut-Off:geo:-122.3646592,37.2479536
END:VEVENT
BEGIN:VEVENT
DTSTART;VALUE=DATE:20220618
DTEND;VALUE=DATE:20220619
DTSTAMP:20260419T065503
CREATED:20220301T050102Z
LAST-MODIFIED:20220601T214341Z
UID:10001418-1655510400-1655596799@ncnca.org
SUMMARY:Pescadero Coastal Classic
DESCRIPTION:
URL:https://ncnca.org/event/pescadero-coastal-classic/
LOCATION:Pescadero Road Race\, 350 Butano Cut-Off\, Pescadero\, CA\, 94060\, United States
CATEGORIES:Road,Road Race
GEO:37.2479536;-122.3646592
X-APPLE-STRUCTURED-LOCATION;VALUE=URI;X-ADDRESS=Pescadero Road Race 350 Butano Cut-Off Pescadero CA 94060 United States;X-APPLE-RADIUS=500;X-TITLE=350 Butano Cut-Off:geo:-122.3646592,37.2479536
END:VEVENT
END:VCALENDAR