BEGIN:VCALENDAR
VERSION:2.0
PRODID:-// - ECPv6.15.17.1//NONSGML v1.0//EN
CALSCALE:GREGORIAN
METHOD:PUBLISH
X-ORIGINAL-URL:https://ncnca.org
X-WR-CALDESC:Events for 
REFRESH-INTERVAL;VALUE=DURATION:PT1H
X-Robots-Tag:noindex
X-PUBLISHED-TTL:PT1H
BEGIN:VTIMEZONE
TZID:America/Los_Angeles
BEGIN:DAYLIGHT
TZOFFSETFROM:-0800
TZOFFSETTO:-0700
TZNAME:PDT
DTSTART:20210314T100000
END:DAYLIGHT
BEGIN:STANDARD
TZOFFSETFROM:-0700
TZOFFSETTO:-0800
TZNAME:PST
DTSTART:20211107T090000
END:STANDARD
BEGIN:DAYLIGHT
TZOFFSETFROM:-0800
TZOFFSETTO:-0700
TZNAME:PDT
DTSTART:20220313T100000
END:DAYLIGHT
BEGIN:STANDARD
TZOFFSETFROM:-0700
TZOFFSETTO:-0800
TZNAME:PST
DTSTART:20221106T090000
END:STANDARD
BEGIN:DAYLIGHT
TZOFFSETFROM:-0800
TZOFFSETTO:-0700
TZNAME:PDT
DTSTART:20230312T100000
END:DAYLIGHT
BEGIN:STANDARD
TZOFFSETFROM:-0700
TZOFFSETTO:-0800
TZNAME:PST
DTSTART:20231105T090000
END:STANDARD
BEGIN:DAYLIGHT
TZOFFSETFROM:-0800
TZOFFSETTO:-0700
TZNAME:PDT
DTSTART:20240310T100000
END:DAYLIGHT
BEGIN:STANDARD
TZOFFSETFROM:-0700
TZOFFSETTO:-0800
TZNAME:PST
DTSTART:20241103T090000
END:STANDARD
BEGIN:DAYLIGHT
TZOFFSETFROM:-0800
TZOFFSETTO:-0700
TZNAME:PDT
DTSTART:20250309T100000
END:DAYLIGHT
BEGIN:STANDARD
TZOFFSETFROM:-0700
TZOFFSETTO:-0800
TZNAME:PST
DTSTART:20251102T090000
END:STANDARD
BEGIN:DAYLIGHT
TZOFFSETFROM:-0800
TZOFFSETTO:-0700
TZNAME:PDT
DTSTART:20260308T100000
END:DAYLIGHT
BEGIN:STANDARD
TZOFFSETFROM:-0700
TZOFFSETTO:-0800
TZNAME:PST
DTSTART:20261101T090000
END:STANDARD
BEGIN:DAYLIGHT
TZOFFSETFROM:-0800
TZOFFSETTO:-0700
TZNAME:PDT
DTSTART:20270314T100000
END:DAYLIGHT
BEGIN:STANDARD
TZOFFSETFROM:-0700
TZOFFSETTO:-0800
TZNAME:PST
DTSTART:20271107T090000
END:STANDARD
END:VTIMEZONE
BEGIN:VEVENT
DTSTART;VALUE=DATE:20260418
DTEND;VALUE=DATE:20260419
DTSTAMP:20260419T111920
CREATED:20251111T174235Z
LAST-MODIFIED:20260311T191939Z
UID:10002311-1776470400-1776556799@ncnca.org
SUMMARY:Montage Wellness – Circuit Race
DESCRIPTION:
URL:https://ncnca.org/event/montage-wellness-circuit-race-2/
LOCATION:Sand City Criterium\, 591 Ortiz Ave\, Sand City\, CA\, 93955\, United States
CATEGORIES:Circuit Race,Road
GEO:36.6123994;-121.8507657
X-APPLE-STRUCTURED-LOCATION;VALUE=URI;X-ADDRESS=Sand City Criterium 591 Ortiz Ave Sand City CA 93955 United States;X-APPLE-RADIUS=500;X-TITLE=591 Ortiz Ave:geo:-121.8507657,36.6123994
END:VEVENT
BEGIN:VEVENT
DTSTART;VALUE=DATE:20250727
DTEND;VALUE=DATE:20250728
DTSTAMP:20260419T111920
CREATED:20241124T005337Z
LAST-MODIFIED:20250728T171420Z
UID:10002207-1753574400-1753660799@ncnca.org
SUMMARY:Montage Wellness – Sand City Criterium
DESCRIPTION:
URL:https://ncnca.org/event/montage-wellness-sand-city-criterium/
LOCATION:Sand City Criterium\, 591 Ortiz Ave\, Sand City\, CA\, 93955\, United States
CATEGORIES:Criterium,Juniors,Road
GEO:36.6123994;-121.8507657
X-APPLE-STRUCTURED-LOCATION;VALUE=URI;X-ADDRESS=Sand City Criterium 591 Ortiz Ave Sand City CA 93955 United States;X-APPLE-RADIUS=500;X-TITLE=591 Ortiz Ave:geo:-121.8507657,36.6123994
END:VEVENT
BEGIN:VEVENT
DTSTART;VALUE=DATE:20250726
DTEND;VALUE=DATE:20250727
DTSTAMP:20260419T111920
CREATED:20241124T005215Z
LAST-MODIFIED:20250422T160536Z
UID:10002206-1753488000-1753574399@ncnca.org
SUMMARY:Montage Wellness – Circuit Race
DESCRIPTION:
URL:https://ncnca.org/event/montage-wellness-circuit-race/
LOCATION:Sand City Criterium\, 591 Ortiz Ave\, Sand City\, CA\, 93955\, United States
CATEGORIES:Circuit Race,Road
GEO:36.6123994;-121.8507657
X-APPLE-STRUCTURED-LOCATION;VALUE=URI;X-ADDRESS=Sand City Criterium 591 Ortiz Ave Sand City CA 93955 United States;X-APPLE-RADIUS=500;X-TITLE=591 Ortiz Ave:geo:-121.8507657,36.6123994
END:VEVENT
BEGIN:VEVENT
DTSTART;VALUE=DATE:20240707
DTEND;VALUE=DATE:20240708
DTSTAMP:20260419T111920
CREATED:20240416T021534Z
LAST-MODIFIED:20240708T173805Z
UID:10002130-1720310400-1720396799@ncnca.org
SUMMARY:Montage Wellness - Sand City Criterium - Powered by Work Horse Bicycles
DESCRIPTION:Please Visit the Monterey Bay Race Team Event Website for more detailed information HERE.
URL:https://ncnca.org/event/sand-city-criterium-4/
LOCATION:Sand City Criterium\, 591 Ortiz Ave\, Sand City\, CA\, 93955\, United States
CATEGORIES:Criterium,Juniors,Road
ATTACH;FMTTYPE=image/png:https://ncnca.org/wp-content/uploads/2024/04/JULY-7-2024.png
GEO:36.6123994;-121.8507657
X-APPLE-STRUCTURED-LOCATION;VALUE=URI;X-ADDRESS=Sand City Criterium 591 Ortiz Ave Sand City CA 93955 United States;X-APPLE-RADIUS=500;X-TITLE=591 Ortiz Ave:geo:-121.8507657,36.6123994
END:VEVENT
BEGIN:VEVENT
DTSTART;VALUE=DATE:20240414
DTEND;VALUE=DATE:20240415
DTSTAMP:20260419T111920
CREATED:20231026T212814Z
LAST-MODIFIED:20240409T175222Z
UID:10001608-1713052800-1713139199@ncnca.org
SUMMARY:Sand City Criterium - POSTPONED
DESCRIPTION:
URL:https://ncnca.org/event/sand-city-criterium-3/
LOCATION:Sand City Criterium\, 591 Ortiz Ave\, Sand City\, CA\, 93955\, United States
CATEGORIES:Criterium,Juniors,Road
GEO:36.6123994;-121.8507657
X-APPLE-STRUCTURED-LOCATION;VALUE=URI;X-ADDRESS=Sand City Criterium 591 Ortiz Ave Sand City CA 93955 United States;X-APPLE-RADIUS=500;X-TITLE=591 Ortiz Ave:geo:-121.8507657,36.6123994
END:VEVENT
BEGIN:VEVENT
DTSTART;VALUE=DATE:20240413
DTEND;VALUE=DATE:20240414
DTSTAMP:20260419T111920
CREATED:20231026T212719Z
LAST-MODIFIED:20240124T011703Z
UID:10001607-1712966400-1713052799@ncnca.org
SUMMARY:Pebble Beach Grand Prix
DESCRIPTION:Junior\, Parents\, Coaches and Teams please note\, NorCal NICA East Bay and Central regions have a race scheduled on this day.
URL:https://ncnca.org/event/pebble-beach-grand-prix/
LOCATION:Sand City Criterium\, 591 Ortiz Ave\, Sand City\, CA\, 93955\, United States
CATEGORIES:Circuit Race,Road
GEO:36.6123994;-121.8507657
X-APPLE-STRUCTURED-LOCATION;VALUE=URI;X-ADDRESS=Sand City Criterium 591 Ortiz Ave Sand City CA 93955 United States;X-APPLE-RADIUS=500;X-TITLE=591 Ortiz Ave:geo:-121.8507657,36.6123994
END:VEVENT
BEGIN:VEVENT
DTSTART;VALUE=DATE:20220911
DTEND;VALUE=DATE:20220912
DTSTAMP:20260419T111920
CREATED:20220114T234733Z
LAST-MODIFIED:20220525T191509Z
UID:10001415-1662854400-1662940799@ncnca.org
SUMMARY:Sand City Criterium
DESCRIPTION:
URL:https://ncnca.org/event/sand-city-criterium/
LOCATION:Sand City Criterium\, 591 Ortiz Ave\, Sand City\, CA\, 93955\, United States
CATEGORIES:Criterium,Road
GEO:36.6123994;-121.8507657
X-APPLE-STRUCTURED-LOCATION;VALUE=URI;X-ADDRESS=Sand City Criterium 591 Ortiz Ave Sand City CA 93955 United States;X-APPLE-RADIUS=500;X-TITLE=591 Ortiz Ave:geo:-121.8507657,36.6123994
END:VEVENT
END:VCALENDAR